{"text_format":"3","workbook":"xlsx","n_sheets":14,"sheets":["トップページ","高総体ｴﾝﾄﾘｰ変更","高総体登録変更","チームエントリー申請書","選手等エントリー申請書","チーム情報変更届＆追加・移籍・抹消届","登録外選手エントリー届","ASPA宿泊申込書","選手交代カード","公式記録用紙","審判報告書（表）","審判報告書（重要報告）","選手データ","ﾁｰﾑﾃﾞｰﾀ"],"not_rendered":{"images":3,"macros":1,"external_links":4,"defined_names":102},"read":"whole","date_system":"1900"}

{"sheet":"トップページ","index":0,"n_rows":118,"n_cols":47,"rows_kept":118,"merged":[[0,1,1,23],[2,1,2,23],[4,1,5,11],[4,13,5,23],[6,1,6,11],[6,13,6,23],[7,14,7,16],[7,18,7,23],[8,1,9,2],[8,3,9,11],[8,13,17,13],[8,15,8,17],[8,18,8,23],[9,15,9,17],[9,18,9,23],[10,1,10,2],[10,3,10,6],[10,7,10,11],[10,15,10,17],[10,18,10,23],[11,1,11,2],[11,3,11,5],[11,6,11,11],[11,15,11,17],[11,18,11,23],[12,1,13,2],[12,3,13,11],[12,15,12,17],[12,18,12,23],[13,15,13,17],[13,18,13,23],[14,1,15,11],[14,15,14,17],[14,18,14,23],[15,15,15,17],[15,18,15,23],[16,1,16,3],[16,4,16,7],[16,8,16,11],[16,15,16,17],[16,18,16,19],[16,21,16,23],[17,1,18,2],[17,3,18,11],[17,15,17,17],[17,19,17,20],[17,22,17,23],[18,13,23,13],[18,14,18,17],[18,18,18,20],[18,21,18,23],[19,1,19,2],[19,3,19,5],[19,6,19,11],[19,15,19,17],[19,18,19,20],[19,21,19,23],[20,1,20,2],[20,3,20,5],[20,6,20,11],[20,15,20,17],[20,18,20,20],[20,21,20,23],[21,1,21,2],[21,3,21,5],[21,6,21,11],[21,15,21,17],[21,18,21,20],[21,21,21,23],[22,1,22,2],[22,3,22,5],[22,6,22,11],[22,15,22,17],[22,18,22,20],[22,21,22,23],[23,1,23,2],[23,3,23,5],[23,6,23,11],[23,15,23,17],[23,18,23,20],[23,21,23,23],[24,1,24,2],[24,3,24,5],[24,6,24,11],[24,13,28,13],[24,14,24,17],[24,18,24,19],[24,20,24,21],[24,22,24,23],[25,1,25,2],[25,3,25,5],[25,6,25,11],[25,15,25,17],[25,18,25,19],[25,20,25,21],[25,22,25,23],[26,1,26,2],[26,3,26,5],[26,6,26,11],[26,15,26,17],[26,18,26,19],[26,20,26,21],[26,22,26,23],[27,15,27,17],[27,18,27,19],[27,20,27,21],[27,22,27,23],[28,1,28,2],[28,3,28,5],[28,6,28,11],[28,15,28,17],[28,18,28,19],[28,20,28,21],[28,22,28,23],[29,13,32,13],[29,18,29,19],[29,20,29,21],[29,22,29,23],[30,1,30,2],[30,3,30,5],[30,6,30,11],[30,15,30,16],[31,15,31,17],[32,15,32,17]]}
[null,"iwate Football Association U-18"]
[]
[null,"岩手県高体連サッカー専門部／(社)岩手県サッカー協会２種委員会　関連様式集　Ver.2009"]
[]
[null,"書類作成",{"$nulls":11},"事前準備（チーム情報入力）"]
[]
[null,"（手順にそって必要書類を作成）",{"$nulls":11},"（白色部分を入力→各様式に反映）",{"$nulls":28},"   ","   ","   ","   "]
[{"$nulls":42},{"$f":"\"第\"&選手データ!$AF$4&\"回岩手県高等学校総合体育大会\"","v":"第61回岩手県高等学校総合体育大会"},"(8)","サッカー競技",null,1]
[null,"手順①",null,"選手DATA入力内容を確認",{"$nulls":9},"チーム",1,"協会登録名称",{"$nulls":11},{"$f":"ISBLANK(S9)","v":true},{"$nulls":14},{"$f":"\"第\"&選手データ!$AJ$4&\"回全国高等学校サッカー選手権\"","v":"第88回全国高等学校サッカー選手権"},{"$f":"\"平成\"&選手データ!$AE$4&\"年度\"","v":"平成21年度"},"岩手県大会",null,2]
[{"$nulls":14},2,"登録番号",null,null,{"$f":"IF($S$9<>0,VLOOKUP($S$9,ﾁｰﾑﾃﾞｰﾀ!$C$2:$M$64,3,FALSE),\"\")","v":""},{"$nulls":23},{"$f":"\"平成\"&選手データ!$AE$4&\"年度 岩手県高等学校新人大会\"","v":"平成21年度 岩手県高等学校新人大会"},"(8)","サッカー競技",null,3]
[null,"様式１",null,"クリックでシートへ移動→",{"$nulls":3},"選手DATA",{"$nulls":6},3,"種別",null,null,{"$f":"IF($S$9<>0,VLOOKUP($S$9,ﾁｰﾑﾃﾞｰﾀ!$C$2:$M$64,4,FALSE),\"\")","v":""},{"$nulls":23},{"$f":"\"平成\"&選手データ!$AE$4&\"年度 第\"&選手データ!$AG$4&\"回岩手県高等学校選抜交流サッカー大会\"","v":"平成21年度 第32回岩手県高等学校選抜交流サッカー大会"},{"$nulls":3},4]
[{"$nulls":14},4,"種別内区分",null,null,{"$f":"IF($S$9<>0,VLOOKUP($S$9,ﾁｰﾑﾃﾞｰﾀ!$C$2:$M$64,5,FALSE),\"\")","v":""},{"$nulls":23},{"$f":"\"第\"&選手データ!$AH$4&\"回いわてユースサッカーリーグ　U-18\"","v":"第7回いわてユースサッカーリーグ　U-18"},{"$f":"\"Seasons’\"&選手データ!$AI$4&\"’\"","v":"Seasons’2009’"},"【i.LEAGUE　U-18】",null,5]
[null,"手順②",null,"作成する大会名を選択　（プルダウンリストから選択）",{"$nulls":10},5,"所在地　〒",null,null,{"$f":"IF($S$9<>0,VLOOKUP($S$9,ﾁｰﾑﾃﾞｰﾀ!$C$2:$M$64,9,FALSE),\"\")","v":""}]
[{"$nulls":14},6,"所在地住所",null,null,{"$f":"IF($S$9<>0,VLOOKUP($S$9,ﾁｰﾑﾃﾞｰﾀ!$C$2:$M$64,10,FALSE),\"\")","v":""}]
[{"$f":"VLOOKUP(B15,$AQ$7:$AU$12,5,FALSE)","v":{"$error":"#N/A"}},{"$nulls":13},7,"連絡先　TEL",null,null,{"$f":"IF($S$9<>0,VLOOKUP($S$9,ﾁｰﾑﾃﾞｰﾀ!$C$2:$M$64,6,FALSE),\"\")","v":""},{"$nulls":8},{"$f":"ISBLANK(S15)","v":false}]
[{"$nulls":14},8,"連絡先　FAX",null,null,{"$f":"IF($S$9<>0,VLOOKUP($S$9,ﾁｰﾑﾃﾞｰﾀ!$C$2:$M$64,7,FALSE),\"\")","v":""},{"$nulls":8},false]
[null,{"$f":"VLOOKUP(B15,AQ8:AR12,2,FALSE)","v":{"$error":"#N/A"}},null,null,{"$f":"VLOOKUP(B15,AQ8:AS12,3,FALSE)","v":{"$error":"#N/A"}},{"$nulls":3},{"$f":"VLOOKUP(B15,AQ8:AT12,4,FALSE)","v":{"$error":"#N/A"}},{"$nulls":5},9,"連絡先　e-mail",{"$nulls":4},"＠",{"$nulls":6},{"$f":"ISBLANK(S17)","v":true},{"$f":"ISBLANK(V17)","v":true},null,"審判資格"]
[null,"手順③",null,"作成/印刷する様式を選択（名称をクリック）",{"$nulls":10},10,"所属長",null,null,"（役職）",null,null,"（氏名）",{"$nulls":5},{"$f":"ISBLANK(T18)","v":true},{"$f":"ISBLANK(W18)","v":true},null,"1級"]
[{"$nulls":13},"スタッフ","役職名",{"$nulls":3},"氏名",null,null,"ふりがな",{"$nulls":8},"2級"]
[null,"様式２",null,"各大会の参加申請",null,null,"チーム・エントリー申請書（不参加・退会届）",{"$nulls":7},11,"監　督",{"$nulls":11},{"$f":"ISBLANK(S20)","v":true},{"$f":"ISBLANK(V20)","v":true},null,"3級"]
[null,"様式３",null,"選手等の参加申込",null,null,"選手等エントリー申請書",{"$nulls":7},12,"引率責任者",{"$nulls":11},{"$f":"ISBLANK(S21)","v":true},{"$f":"ISBLANK(V21)","v":true},null,"ユース3級"]
[null,"様式４",null,"ｉ.LEAGUE　用",null,null,"情報変更届／追加・移籍・末梢届",{"$nulls":7},13,"コーチ",{"$nulls":11},{"$f":"ISBLANK(S22)","v":true},{"$f":"ISBLANK(V22)","v":true},null,"4級"]
[null,"様式５",null,"試合当日に使用",null,null,"登録外選手エントリー届",{"$nulls":7},14,"キャプテン（主将）",{"$nulls":11},{"$f":"ISBLANK(S23)","v":true},{"$f":"ISBLANK(V23)","v":true},null,"ユース4級"]
[null,"様式６",null,"試合当日に使用",null,null,"選手交代カード",{"$nulls":7},15,"マネージャー（主務）",{"$nulls":11},{"$f":"ISBLANK(S24)","v":true},{"$f":"ISBLANK(V24)","v":true}]
[null,"様式７",null,"試合主管時",null,null,"公式記録用紙",{"$nulls":6},"帯同審判",{"$nulls":4},"氏名",null,"ふりがな",null,"資格"]
[null,"様式８",null,"試合主管時",null,null,"審判報告書（表）",{"$nulls":7},16,"審判員①（義務)",{"$nulls":11},{"$f":"ISBLANK(S26)","v":true},{"$f":"ISBLANK(U26)","v":true},{"$f":"ISBLANK(W26)","v":true}]
[null,"様式９",null,"試合主管時",null,null,"審判報告書（裏：重要報告）",{"$nulls":7},17,"審判員②（任意)",{"$nulls":11},{"$f":"ISBLANK(S27)","v":true},{"$f":"ISBLANK(U27)","v":true},{"$f":"ISBLANK(W27)","v":true},null,{"$f":"ISBLANK(W32)","v":true},{"$f":"ISBLANK(X32)","v":true}]
[{"$nulls":14},18,"審判員③（任意)",{"$nulls":11},{"$f":"ISBLANK(S28)","v":true},{"$f":"ISBLANK(U28)","v":true},{"$f":"ISBLANK(W28)","v":true},null,{"$f":"ISBLANK(W33)","v":true},{"$f":"ISBLANK(X33)","v":true}]
[null,"様式10",null,"ASPA開催時",null,null,"ＡＳＰＡ宿泊申込書（FAX送信表）",{"$nulls":7},19,"審判員④（任意)",{"$nulls":11},true,true,true]
[{"$nulls":13},"ユニフォーム",{"$nulls":3},"区分","シャツ",null,"ショーツ",null,"ストッキング"]
[null,"*",null,"修正用",null,null,"チーム情報データシート",{"$nulls":8},"種類",null,null,"正","副","正","副","正","副"]
[{"$nulls":14},20,"フィールドプレーヤー：ＦＰ",{"$nulls":11},{"$f":"ISBLANK(S32)","v":true},true,true,true,true,true]
[{"$nulls":14},21,"ゴールキーパー：ＧＫ",{"$nulls":11},true,true,true,true,true,true]
{"$rows_empty":20}
[{"$nulls":27},"県立久慈高等学校"]
[{"$nulls":27},"県立大野高等学校"]
[{"$nulls":27},"県立久慈工業高等学校"]
[{"$nulls":27},"県立久慈東高等学校"]
[{"$nulls":27},"県立軽米高等学校"]
[{"$nulls":27},"県立福岡高等学校"]
[{"$nulls":27},"県立福岡工業高等学校"]
[{"$nulls":27},"県立沼宮内高等学校"]
[{"$nulls":27},"県立葛巻高等学校"]
[{"$nulls":27},"県立平舘高等学校"]
[{"$nulls":27},"県立雫石高等学校"]
[{"$nulls":27},"県立盛岡第一高等学校"]
[{"$nulls":27},"県立盛岡第三高等学校"]
[{"$nulls":27},"県立盛岡第四高等学校"]
[{"$nulls":27},"県立盛岡北高等学校"]
[{"$nulls":27},"県立盛岡南高等学校"]
[{"$nulls":27},"県立不来方高等学校"]
[{"$nulls":27},"県立盛岡農業高等学校"]
[{"$nulls":27},"県立盛岡商業高等学校"]
[{"$nulls":27},"盛岡市立高等学校"]
[{"$nulls":27},"岩手高等学校"]
[{"$nulls":27},"江南義塾盛岡高等学校"]
[{"$nulls":27},"盛岡大学附属高等学校"]
[{"$nulls":27},"盛岡中央高等学校"]
[{"$nulls":27},"県立杜陵高等学校（定時制）"]
[{"$nulls":27},"県立紫波総合高等学校"]
[{"$nulls":27},"県立花巻北高等学校"]
[{"$nulls":27},"県立花巻南高等学校"]
[{"$nulls":27},"県立花北青雲高等学校"]
[{"$nulls":27},"花巻東高等学校"]
[{"$nulls":27},"県立遠野高等学校"]
[{"$nulls":27},"県立遠野緑峰高等学校"]
[{"$nulls":27},"県立黒沢尻北高等学校"]
[{"$nulls":27},"専修大学北上高等学校"]
[{"$nulls":27},"県立北上翔南高等学校"]
[{"$nulls":27},"県立金ヶ崎高等学校"]
[{"$nulls":27},"県立水沢高等学校"]
[{"$nulls":27},"県立水沢農業高等学校"]
[{"$nulls":27},"県立水沢工業高等学校"]
[{"$nulls":27},"県立水沢商業高等学校"]
[{"$nulls":27},"水沢第一高等学校"]
[{"$nulls":27},"県立前沢高等学校"]
[{"$nulls":27},"県立岩谷堂高等学校"]
[{"$nulls":27},"県立岩谷堂農林高等学校"]
[{"$nulls":27},"県立一関第一高等学校"]
[{"$nulls":27},"県立一関第二高等学校"]
[{"$nulls":27},"一関学院高等学校"]
[{"$nulls":27},"県立花泉高等学校"]
[{"$nulls":27},"県立大原商業高等学校"]
[{"$nulls":27},"県立千厩高等学校"]
[{"$nulls":27},"県立大東高等学校"]
[{"$nulls":27},"県立高田高等学校"]
[{"$nulls":27},"県立大船渡高等学校"]
[{"$nulls":27},"県立大船渡工業高等学校"]
[{"$nulls":27},"県立釜石南高等学校"]
[{"$nulls":27},"県立大槌高等学校"]
[{"$nulls":27},"県立釜石工業高等学校"]
[{"$nulls":27},"県立山田高等学校"]
[{"$nulls":27},"県立岩泉高等学校"]
[{"$nulls":27},"県立宮古高等学校"]
[{"$nulls":27},"県立宮古北高等学校"]
[{"$nulls":27},"県立宮古工業高等学校"]
[{"$nulls":27},"国立宮古海上技術学校"]
[{"$nulls":27},"水沢FCﾕﾅｲﾃｯﾄﾞ・ﾕｰｽ"]
[{"$nulls":27},"ｳﾞｪﾙﾃﾞｨ・ｻｯｶｰｽｸｰﾙ岩手花巻"]

{"sheet":"高総体ｴﾝﾄﾘｰ変更","index":1,"n_rows":17,"n_cols":31,"rows_kept":17,"hidden":true,"merged":[[1,1,1,11],[2,1,2,11],[4,1,5,2],[4,3,5,6],[4,8,4,9],[4,10,4,11],[5,8,5,9],[5,10,5,11],[6,0,7,0],[6,1,6,2],[6,3,6,11],[11,14,13,18],[13,1,13,11],[13,20,13,24],[14,1,14,3],[16,4,16,6],[16,8,16,10]]}
["トップページに戻る"]
[null,{"$f":"#REF!","v":{"$error":"#REF!"}}]
[null,"　サッカー競技登録変更用紙　"]
[]
[null,"学　校　名　　　：",null,{"$f":"IF(#REF!>0,#REF!,\"\")","v":{"$error":"#REF!"}},{"$nulls":3},"種別","編成",null,"男女別"]
["部員NO.",{"$nulls":6},{"$f":"IF(#REF!<>0,#REF!,\"\")","v":{"$error":"#REF!"}},{"$f":"IF(#REF!<>0,#REF!,\"\")","v":{"$error":"#REF!"}},null,{"$f":"IF(#REF!<>0,#REF!,\"\")","v":{"$error":"#REF!"}}]
["部員データシートに入力されている、部員Noを入力する。","旧　登　録　選　手",null,"新　　登　　録　　選　　手"]
[null,"背番号","氏　　名","ポジション","氏名","ふりがな","学年","生年月日","身長　　　　ｃｍ","体重　　　　ｋｇ","出身中学","前所属チーム"]
[null,null,{"$f":"IF($B9<>0,VLOOKUP($B9,#REF!,4,FALSE),\"\")","v":""},null,{"$f":"IF($A9<>0,VLOOKUP($A9,選手データ!$C$2:$U$102,4,FALSE),\"\")","v":""},{"$f":"IF($A9<>0,VLOOKUP($A9,選手データ!$C$2:$U$102,5,FALSE),\"\")","v":""},{"$f":"IF($A9<>0,VLOOKUP($A9,選手データ!$C$2:$U$102,3,FALSE),\"\")","v":""},{"$f":"IF($A9<>0,VLOOKUP($A9,選手データ!$C$2:$U$102,8,FALSE),\"\")","v":""},{"$f":"IF($A9<>0,VLOOKUP($A9,選手データ!$C$2:$U$102,10,FALSE),\"\")","v":""},{"$f":"IF($A9<>0,VLOOKUP($A9,選手データ!$C$2:$U$102,11,FALSE),\"\")","v":""},{"$f":"IF($A9<>0,VLOOKUP($A9,選手データ!$C$2:$U$102,6,FALSE),\"\")","v":""},{"$f":"IF($A9<>0,VLOOKUP($A9,選手データ!$C$2:$U$102,7,FALSE),\"\")","v":""},null,null,1,2,3,4,5,6,7,8,9,10,11,12,13,14,15,16,17]
[null,null,{"$f":"IF($B10<>0,VLOOKUP($B10,#REF!,4,FALSE),\"\")","v":""},null,{"$f":"IF($A10<>0,VLOOKUP($A10,選手データ!$C$2:$U$102,4,FALSE),\"\")","v":""},{"$f":"IF($A10<>0,VLOOKUP($A10,選手データ!$C$2:$U$102,5,FALSE),\"\")","v":""},{"$f":"IF($A10<>0,VLOOKUP($A10,選手データ!$C$2:$U$102,3,FALSE),\"\")","v":""},{"$f":"IF($A10<>0,VLOOKUP($A10,選手データ!$C$2:$U$102,8,FALSE),\"\")","v":""},{"$f":"IF($A10<>0,VLOOKUP($A10,選手データ!$C$2:$U$102,10,FALSE),\"\")","v":""},{"$f":"IF($A10<>0,VLOOKUP($A10,選手データ!$C$2:$U$102,11,FALSE),\"\")","v":""},{"$f":"IF($A10<>0,VLOOKUP($A10,選手データ!$C$2:$U$102,6,FALSE),\"\")","v":""},{"$f":"IF($A10<>0,VLOOKUP($A10,選手データ!$C$2:$U$102,7,FALSE),\"\")","v":""}]
[null,null,{"$f":"IF($B11<>0,VLOOKUP($B11,#REF!,4,FALSE),\"\")","v":""},null,{"$f":"IF($A11<>0,VLOOKUP($A11,選手データ!$C$2:$U$102,4,FALSE),\"\")","v":""},{"$f":"IF($A11<>0,VLOOKUP($A11,選手データ!$C$2:$U$102,5,FALSE),\"\")","v":""},{"$f":"IF($A11<>0,VLOOKUP($A11,選手データ!$C$2:$U$102,3,FALSE),\"\")","v":""},{"$f":"IF($A11<>0,VLOOKUP($A11,選手データ!$C$2:$U$102,8,FALSE),\"\")","v":""},{"$f":"IF($A11<>0,VLOOKUP($A11,選手データ!$C$2:$U$102,10,FALSE),\"\")","v":""},{"$f":"IF($A11<>0,VLOOKUP($A11,選手データ!$C$2:$U$102,11,FALSE),\"\")","v":""},{"$f":"IF($A11<>0,VLOOKUP($A11,選手データ!$C$2:$U$102,6,FALSE),\"\")","v":""},{"$f":"IF($A11<>0,VLOOKUP($A11,選手データ!$C$2:$U$102,7,FALSE),\"\")","v":""},{"$nulls":3},"GK","DF","MF","FW",null,"全日制","定時制","単位制","通信制"]
[{"$nulls":14},"種別リスト"]
[]
[null,"上記の新登録選手は、本校在学生徒ですので標記大会に出場することを認め申し込みます。",{"$nulls":18},"男女別リスト"]
[null,{"$f":"TODAY()","v":"2009-04-05"},{"$nulls":12},"1部","2部",{"$nulls":4},"男子","女子"]
[]
[{"$nulls":4},{"$f":"IF(#REF!<>0,#REF!,\"\")","v":{"$error":"#REF!"}},null,null,{"$f":"IF(#REF!<>0,#REF!,\"\")","v":{"$error":"#REF!"}},{"$f":"IF(#REF!<>0,#REF!,\"\")","v":{"$error":"#REF!"}},{"$f":"IF(#REF!<>0,#REF!,\"\")","v":{"$error":"#REF!"}},{"$f":"IF(#REF!<>0,#REF!,\"\")","v":{"$error":"#REF!"}},"印"]

{"sheet":"高総体登録変更","index":2,"n_rows":13,"n_cols":31,"rows_kept":13,"hidden":true,"merged":[[1,1,1,11],[2,1,2,11],[3,1,4,2],[3,3,4,6],[3,8,3,9],[3,10,3,11],[4,8,4,9],[4,10,4,11],[5,0,6,0],[5,1,5,2],[5,3,5,11],[10,1,10,11],[10,14,10,18],[10,20,10,24],[11,1,11,3],[12,4,12,6],[12,8,12,10]]}
["トップページに戻る"]
[null,{"$f":"\"第\"&選手データ!AF4&\"回岩手県高等学校総合体育大会\"","v":"第61回岩手県高等学校総合体育大会"}]
[null,"　サッカー競技登録変更用紙　"]
[null,"学　校　名　　　：",null,{"$f":"#REF!","v":{"$error":"#REF!"}},{"$nulls":3},"種別","編成",null,"男女別"]
["部員NO."]
["部員データシートに入力されている、部員Noを入力する。","旧　登　録　選　手",null,"新　　登　　録　　選　　手"]
[null,"背番号","氏　　名","ポジション","氏名","ふりがな","学年","生年月日","身長　　　　ｃｍ","体重　　　　ｋｇ","出身中学","前所属チーム"]
[null,null,{"$f":"IF($B8<>0,VLOOKUP($B8,#REF!,4,FALSE),\"\")","v":""},null,{"$f":"IF($A8<>0,VLOOKUP($A8,選手データ!$C$2:$U$102,4,FALSE),\"\")","v":""},{"$f":"IF($A8<>0,VLOOKUP($A8,選手データ!$C$2:$U$102,5,FALSE),\"\")","v":""},{"$f":"IF($A8<>0,VLOOKUP($A8,選手データ!$C$2:$U$102,3,FALSE),\"\")","v":""},{"$f":"IF($A8<>0,VLOOKUP($A8,選手データ!$C$2:$U$102,8,FALSE),\"\")","v":""},{"$f":"IF($A8<>0,VLOOKUP($A8,選手データ!$C$2:$U$102,10,FALSE),\"\")","v":""},{"$f":"IF($A8<>0,VLOOKUP($A8,選手データ!$C$2:$U$102,11,FALSE),\"\")","v":""},{"$f":"IF($A8<>0,VLOOKUP($A8,選手データ!$C$2:$U$102,6,FALSE),\"\")","v":""},{"$f":"IF($A8<>0,VLOOKUP($A8,選手データ!$C$2:$U$102,7,FALSE),\"\")","v":""},null,null,1,2,3,4,5,6,7,8,9,10,11,12,13,14,15,16,17]
[null,null,{"$f":"IF($B9<>0,VLOOKUP($B9,#REF!,4,FALSE),\"\")","v":""},null,{"$f":"IF($A9<>0,VLOOKUP($A9,選手データ!$C$2:$U$102,4,FALSE),\"\")","v":""},{"$f":"IF($A9<>0,VLOOKUP($A9,選手データ!$C$2:$U$102,5,FALSE),\"\")","v":""},{"$f":"IF($A9<>0,VLOOKUP($A9,選手データ!$C$2:$U$102,3,FALSE),\"\")","v":""},{"$f":"IF($A9<>0,VLOOKUP($A9,選手データ!$C$2:$U$102,8,FALSE),\"\")","v":""},{"$f":"IF($A9<>0,VLOOKUP($A9,選手データ!$C$2:$U$102,10,FALSE),\"\")","v":""},{"$f":"IF($A9<>0,VLOOKUP($A9,選手データ!$C$2:$U$102,11,FALSE),\"\")","v":""},{"$f":"IF($A9<>0,VLOOKUP($A9,選手データ!$C$2:$U$102,6,FALSE),\"\")","v":""},{"$f":"IF($A9<>0,VLOOKUP($A9,選手データ!$C$2:$U$102,7,FALSE),\"\")","v":""}]
[null,null,{"$f":"IF($B10<>0,VLOOKUP($B10,#REF!,4,FALSE),\"\")","v":""},null,{"$f":"IF($A10<>0,VLOOKUP($A10,選手データ!$C$2:$U$102,4,FALSE),\"\")","v":""},{"$f":"IF($A10<>0,VLOOKUP($A10,選手データ!$C$2:$U$102,5,FALSE),\"\")","v":""},{"$f":"IF($A10<>0,VLOOKUP($A10,選手データ!$C$2:$U$102,3,FALSE),\"\")","v":""},{"$f":"IF($A10<>0,VLOOKUP($A10,選手データ!$C$2:$U$102,8,FALSE),\"\")","v":""},{"$f":"IF($A10<>0,VLOOKUP($A10,選手データ!$C$2:$U$102,10,FALSE),\"\")","v":""},{"$f":"IF($A10<>0,VLOOKUP($A10,選手データ!$C$2:$U$102,11,FALSE),\"\")","v":""},{"$f":"IF($A10<>0,VLOOKUP($A10,選手データ!$C$2:$U$102,6,FALSE),\"\")","v":""},{"$f":"IF($A10<>0,VLOOKUP($A10,選手データ!$C$2:$U$102,7,FALSE),\"\")","v":""},{"$nulls":3},"GK","DF","MF","FW",null,"全日制","定時制","単位制","通信制"]
[null,"上記の新登録選手は、本校在学生徒ですので標記大会に出場することを認め申し込みます。",{"$nulls":18},"男女別リスト"]
[null,{"$f":"TODAY()","v":"2009-04-05"},{"$nulls":12},"1部","2部",{"$nulls":4},"男子","女子"]
[{"$nulls":4},{"$f":"#REF!","v":{"$error":"#REF!"}},{"$nulls":3},{"$f":"#REF!","v":{"$error":"#REF!"}},null,null,"印"]

{"sheet":"チームエントリー申請書","index":3,"n_rows":29,"n_cols":33,"rows_kept":29,"merged":[[0,0,7,0],[0,18,0,19],[1,1,1,9],[2,2,2,4],[2,5,2,8],[3,1,3,9],[5,1,5,7],[5,13,6,17],[5,18,6,24],[7,13,8,14],[7,15,7,17],[7,18,7,24],[8,15,8,17],[8,18,8,22],[8,23,8,24],[10,1,10,24],[11,7,11,12],[11,13,11,19],[12,1,12,24],[13,1,13,24],[14,9,14,16],[15,1,15,24],[16,1,20,2],[16,3,20,5],[16,6,16,8],[16,9,16,16],[16,17,16,19],[16,20,16,24],[17,6,17,8],[17,10,17,12],[17,13,17,14],[17,15,17,24],[18,6,18,8],[18,10,18,16],[18,18,18,24],[19,6,19,8],[19,9,19,16],[19,17,19,19],[19,20,19,24],[20,6,20,8],[20,9,20,11],[20,12,20,13],[20,15,20,17],[20,20,20,22],[21,0,28,0],[21,1,25,2],[21,3,25,5],[21,6,21,8],[21,9,21,16],[21,17,21,19],[21,30,22,34],[22,6,22,8],[22,9,22,16],[22,17,22,19],[22,20,22,24],[23,6,23,8],[23,9,23,16],[23,17,23,19],[23,20,23,24],[24,6,24,8],[24,9,24,16],[24,17,24,19],[24,20,24,24],[24,30,25,34],[25,6,25,8],[25,9,25,14],[25,16,25,24],[27,14,27,16],[27,17,27,21],[28,1,28,3],[28,10,28,13],[28,14,28,16],[28,17,28,21]]}
["トップページへ戻る",{"$nulls":17},{"$f":"IF($J$22<>0,選手データ!$AD$6,\"\")","v":""},null,"年",{"$f":"IF($J$22<>0,選手データ!$AD$16,\"\")","v":""},"月",{"$f":"IF($J$22<>0,選手データ!$AD$18,\"\")","v":""},"日"]
[null,{"$f":"トップページ!$B$15","v":0}]
[null,null,{"$f":"トップページ!$B$17","v":{"$error":"#N/A"}},null,null,{"$f":"トップページ!$E$17","v":{"$error":"#N/A"}}]
[null,"大会実行委員長　様"]
[]
[{"$nulls":13},"(財)日本サッカー協会　登録団体名",{"$nulls":4},{"$f":"IF(トップページ!$S$9<>0,トップページ!$S$9,\"\")","v":""}]
[]
[{"$nulls":13},"所属長",null,"（役職）",null,null,"（氏　名）"]
[{"$nulls":15},{"$f":"トップページ!$T$18","v":0},null,null,{"$f":"トップページ!$W$18","v":0},{"$nulls":4},"公印"]
[]
[null,{"$f":"トップページ!$B$15","v":0}]
[{"$nulls":7},{"$f":"トップページ!$B$17","v":{"$error":"#N/A"}},{"$nulls":5},{"$f":"トップページ!$E$17","v":{"$error":"#N/A"}}]
[null,"チームエントリー申請書"]
[null,"（不参加・退会届）"]
[{"$nulls":9},"←〔該当する方へチェックを入れてください。〕→",{"$nulls":16},false,{"$nulls":3},"本書をもって、標記大会へ参加を申請いたします。"]
[null,{"$f":"IF(AA15=TRUE,AE15,IF(AA16=TRUE,AE16,\"\"))","v":""},{"$nulls":24},false,{"$nulls":3},"標記大会を不参加（退会）とします。"]
[null,"（１）",null,"登録団体",null,null,"協会登録名称",null,null,{"$f":"IF(トップページ!$S$9<>0,トップページ!$S$9,\"\")","v":""},{"$nulls":7},"登録番号",null,null,{"$f":"IF(トップページ!$S$10<>0,トップページ!$S$10,\"\")","v":""}]
[{"$nulls":6},"所在地",null,null,"〒",{"$f":"IF(トップページ!$S$13<>0,トップページ!$S$13,\"\")","v":""},null,null,"住所",null,{"$f":"IF(トップページ!$S$14<>0,トップページ!$S$14,\"\")","v":""}]
[{"$nulls":6},"連絡先",null,null,"TEL：",{"$f":"IF(トップページ!$S$15<>0,トップページ!$S$15,\"\")","v":""},{"$nulls":6},"FAX：",{"$f":"IF(トップページ!$S$16<>0,トップページ!$S$16,\"\")","v":""}]
[{"$nulls":6},"種別",null,null,{"$f":"IF(トップページ!$S$11<>0,トップページ!$S$11,\"\")","v":""},{"$nulls":7},"種別内区分",null,null,{"$f":"IF(トップページ!$S$12<>0,トップページ!$S$12,\"\")","v":""}]
[{"$nulls":6},"登録選手状況",null,null,"U-18　　　（現高3）",{"$nulls":4},"名","U-17　　　（現高2）",{"$nulls":3},"名","U-16　　  （現高1）",{"$nulls":3},"名"]
["ページ上へ戻る","（２）",null,"出場チーム",null,null,"出場チーム名称",{"$nulls":10},"略称　　　　　　（５字以内）",{"$nulls":12},"出場形態"]
[{"$nulls":6},"出場形態",{"$nulls":10},"※「複数」の場合の種類"]
[{"$nulls":6},"監督名",{"$nulls":10},"携帯TEL",{"$nulls":12},"単独","合同","複数"]
[{"$nulls":6},"引率責任者名",{"$nulls":10},"携帯TEL",{"$nulls":12},"複数チームの種類"]
[{"$nulls":6},"連絡先E-mail",{"$nulls":8},"＠"]
[{"$nulls":30},"1st","2nd","3rd"]
[{"$nulls":14},"（チーム内役職）",null,null,"（氏名）"]
[{"$nulls":10},"記入責任者：",{"$nulls":12},"印"]

{"sheet":"選手等エントリー申請書","index":4,"n_rows":42,"n_cols":34,"rows_kept":42,"merged":[[0,0,5,0],[0,1,0,25],[1,1,1,9],[1,10,1,15],[1,16,1,25],[2,1,3,3],[2,4,3,8],[2,9,3,10],[2,11,3,12],[2,13,4,13],[2,14,2,15],[2,16,2,17],[2,18,2,19],[2,20,2,21],[2,22,2,25],[3,14,3,15],[3,17,3,18],[3,19,3,25],[4,1,5,3],[4,4,5,8],[4,9,4,10],[4,11,4,12],[4,14,4,15],[4,16,4,19],[4,20,4,21],[4,22,4,25],[5,9,5,10],[5,11,5,12],[5,13,5,19],[5,20,5,25],[6,1,6,3],[6,4,6,8],[6,9,6,12],[6,13,10,13],[6,14,6,16],[6,17,6,19],[6,20,6,22],[6,23,6,25],[6,29,7,33],[7,1,7,3],[7,4,7,8],[7,9,7,12],[7,14,8,15],[7,17,7,19],[7,20,7,22],[7,23,7,25],[8,1,8,3],[8,4,8,8],[8,9,8,12],[8,17,8,19],[8,20,8,22],[8,23,8,25],[9,1,9,3],[9,4,9,8],[9,9,9,12],[9,14,10,15],[9,17,9,19],[9,20,9,22],[9,23,9,25],[10,1,10,3],[10,4,10,8],[10,9,10,12],[10,17,10,19],[10,20,10,22],[10,23,10,25],[11,0,12,0],[11,1,12,1],[11,2,12,2],[11,3,12,6],[11,7,12,9],[11,10,12,10],[11,11,12,13],[11,14,12,16],[11,17,11,22],[11,23,12,25],[12,17,12,19],[12,20,12,22],[12,29,13,33],[13,3,13,6],[13,7,13,9],[13,11,13,13],[13,14,13,16],[13,17,13,19],[13,20,13,22],[13,23,13,25],[14,3,14,6],[14,7,14,9],[14,11,14,13],[14,14,14,16],[14,17,14,19],[14,20,14,22],[14,23,14,25],[15,3,15,6],[15,7,15,9],[15,11,15,13],[15,14,15,16],[15,17,15,19],[15,20,15,22],[15,23,15,25],[15,29,16,33],[16,3,16,6],[16,7,16,9],[16,11,16,13],[16,14,16,16],[16,17,16,19],[16,20,16,22],[16,23,16,25],[17,3,17,6],[17,7,17,9],[17,11,17,13],[17,14,17,16],[17,17,17,19],[17,20,17,22],[17,23,17,25],[18,3,18,6],[18,7,18,9],[18,11,18,13],[18,14,18,16],[18,17,18,19],[18,20,18,22],[18,23,18,25],[19,3,19,6],[19,7,19,9],[19,11,19,13],[19,14,19,16],[19,17,19,19],[19,20,19,22],[19,23,19,25],[20,3,20,6],[20,7,20,9],[20,11,20,13],[20,14,20,16],[20,17,20,19],[20,20,20,22],[20,23,20,25],[21,3,21,6],[21,7,21,9],[21,11,21,13],[21,14,21,16],[21,17,21,19],[21,20,21,22],[21,23,21,25],[22,3,22,6],[22,7,22,9],[22,11,22,13],[22,14,22,16],[22,17,22,19],[22,20,22,22],[22,23,22,25],[23,3,23,6],[23,7,23,9],[23,11,23,13],[23,14,23,16],[23,17,23,19],[23,20,23,22],[23,23,23,25],[24,3,24,6],[24,7,24,9],[24,11,24,13],[24,14,24,16],[24,17,24,19],[24,20,24,22],[24,23,24,25],[25,3,25,6],[25,7,25,9],[25,11,25,13],[25,14,25,16],[25,17,25,19],[25,20,25,22],[25,23,25,25],[26,3,26,6],[26,7,26,9],[26,11,26,13],[26,14,26,16],[26,17,26,19],[26,20,26,22],[26,23,26,25],[27,3,27,6],[27,7,27,9],[27,11,27,13],[27,14,27,16],[27,17,27,19],[27,20,27,22],[27,23,27,25],[28,3,28,6],[28,7,28,9],[28,11,28,13],[28,14,28,16],[28,17,28,19],[28,20,28,22],[28,23,28,25],[29,3,29,6],[29,7,29,9],[29,11,29,13],[29,14,29,16],[29,17,29,19],[29,20,29,22],[29,23,29,25],[30,3,30,6],[30,7,30,9],[30,11,30,13],[30,14,30,16],[30,17,30,19],[30,20,30,22],[30,23,30,25],[31,3,31,6],[31,7,31,9],[31,11,31,13],[31,14,31,16],[31,17,31,19],[31,20,31,22],[31,23,31,25],[32,3,32,6],[32,7,32,9],[32,11,32,13],[32,14,32,16],[32,17,32,19],[32,20,32,22],[32,23,32,25],[33,3,33,6],[33,7,33,9],[33,11,33,13],[33,14,33,16],[33,17,33,19],[33,20,33,22],[33,23,33,25],[34,3,34,6],[34,7,34,9],[34,11,34,13],[34,14,34,16],[34,17,34,19],[34,20,34,22],[34,23,34,25],[35,3,35,6],[35,7,35,9],[35,11,35,13],[35,14,35,16],[35,17,35,19],[35,20,35,22],[35,23,35,25],[36,3,36,6],[36,7,36,9],[36,11,36,13],[36,14,36,16],[36,17,36,19],[36,20,36,22],[36,23,36,25],[37,3,37,6],[37,7,37,9],[37,11,37,13],[37,14,37,16],[37,17,37,19],[37,20,37,22],[37,23,37,25],[38,0,42,0],[39,1,39,25],[40,2,40,3],[40,14,40,15],[40,17,40,22],[40,27,40,28],[41,11,41,13],[41,14,41,15],[41,17,41,22]]}
["トップページへ戻る",{"$f":"トップページ!$B$15","v":0},{"$nulls":24},{"$f":"トップページ!$A$15","v":{"$error":"#N/A"}}]
[null,{"$f":"トップページ!$B$17","v":{"$error":"#N/A"}},{"$nulls":8},{"$f":"トップページ!$E$17","v":{"$error":"#N/A"}},{"$nulls":5},"〔選手等エントリー申請書〕"]
[null,"出場チーム名",{"$nulls":7},"出場形態",{"$nulls":3},"チーム情報","所属長名",null,"（役職）",null,{"$f":"IF(トップページ!$T$18<>0,トップページ!$T$18,\"\")","v":""},null,"（氏名）",null,{"$f":"IF(トップページ!$W$18<>0,トップページ!$W$18,\"\")","v":""}]
[{"$nulls":14},"所在地住所",null,"〒",{"$f":"IF(トップページ!$S$13<>0,トップページ!$S$13,\"\")","v":""},null,{"$f":"IF(トップページ!$S$14<>0,トップページ!$S$14,\"\")","v":""}]
[null,"(協会登録団体名)",null,null,{"$f":"IF(トップページ!$S$9<>0,トップページ!$S$9,\"\")","v":""},{"$nulls":4},"種別",null,{"$f":"IF(トップページ!$S$11<>0,トップページ!$S$11,\"\")","v":""},null,null,"TEL",null,{"$f":"IF(トップページ!$S$15<>0,トップページ!$S$15,\"\")","v":""},{"$f":"IF(トップページ!$S$15<>0,トップページ!$S$15,\"\")","v":""},null,{"$f":"IF(トップページ!$S$15<>0,トップページ!$S$15,\"\")","v":""},"FAX",null,{"$f":"IF(トップページ!$S$16<>0,トップページ!$S$16,\"\")","v":""},null,{"$f":"IF(トップページ!$S$16<>0,トップページ!$S$16,\"\")","v":""},{"$f":"IF(トップページ!$S$16<>0,トップページ!$S$16,\"\")","v":""}]
[{"$nulls":9},"区分",null,{"$f":"IF(トップページ!$S$12<>0,トップページ!$S$12,\"\")","v":""},null,"大会時連絡先携帯（番号／使用者名）"]
[null,"役職",null,null,"氏名",{"$nulls":4},"ふりがな",{"$nulls":3},"ユニフォーム","区分",null,null,"シャツ",null,null,"ショーツ",null,null,"ストッキング",{"$nulls":5},"出場形態"]
[null,"監　督　名",null,null,{"$f":"IF(トップページ!$S$20<>0,トップページ!$S$20,\"\")","v":""},{"$f":"IF(トップページ!$S$20<>0,トップページ!$S$20,\"\")","v":""},{"$f":"IF(トップページ!$S$20<>0,トップページ!$S$20,\"\")","v":""},{"$f":"IF(トップページ!$S$20<>0,トップページ!$S$20,\"\")","v":""},{"$f":"IF(トップページ!$S$20<>0,トップページ!$S$20,\"\")","v":""},{"$f":"IF(トップページ!$V$20<>0,トップページ!$V$20,\"\")","v":""},{"$f":"IF(トップページ!$V$20<>0,トップページ!$V$20,\"\")","v":""},{"$f":"IF(トップページ!$V$20<>0,トップページ!$V$20,\"\")","v":""},{"$f":"IF(トップページ!$V$20<>0,トップページ!$V$20,\"\")","v":""},null,"ＦＰ",null,"正",{"$f":"IF(トップページ!$S$32<>0,トップページ!$S$32,\"\")","v":""},null,null,{"$f":"IF(トップページ!$U$32<>0,トップページ!$U$32,\"\")","v":""},null,null,{"$f":"IF(トップページ!$W$32<>0,トップページ!$W$32,\"\")","v":""}]
[null,"引率責任者",null,null,{"$f":"IF(トップページ!$S$21<>0,トップページ!$S$21,\"\")","v":""},{"$nulls":4},{"$f":"IF(トップページ!$V$21<>0,トップページ!$V$21,\"\")","v":""},{"$nulls":6},"副",{"$f":"IF(トップページ!$T$32<>0,トップページ!$T$32,\"\")","v":""},null,null,{"$f":"IF(トップページ!$V$32<>0,トップページ!$V$32,\"\")","v":""},null,null,{"$f":"IF(トップページ!$X$32<>0,トップページ!$X$32,\"\")","v":""},{"$nulls":5},"単独","合同","複数"]
[null,"主　将",null,null,{"$f":"IF(トップページ!$S$23<>0,トップページ!$S$23,\"\")","v":""},{"$nulls":4},{"$f":"IF(トップページ!$V$23<>0,トップページ!$V$23,\"\")","v":""},{"$nulls":4},"ＧＫ",null,"正",{"$f":"IF(トップページ!$S$33<>0,トップページ!$S$33,\"\")","v":""},null,null,{"$f":"IF(トップページ!$U$33<>0,トップページ!$U$33,\"\")","v":""},null,null,{"$f":"IF(トップページ!$W$33<>0,トップページ!$W$33,\"\")","v":""}]
[null,"マネージャー",null,null,{"$f":"IF(トップページ!$S$24<>0,トップページ!$S$24,\"\")","v":""},{"$nulls":4},{"$f":"IF(トップページ!$V$24<>0,トップページ!$V$24,\"\")","v":""},{"$nulls":6},"副",{"$f":"IF(トップページ!$T$33<>0,トップページ!$T$33,\"\")","v":""},null,null,{"$f":"IF(トップページ!$V$33<>0,トップページ!$V$33,\"\")","v":""},null,null,{"$f":"IF(トップページ!$X$33<>0,トップページ!$X$33,\"\")","v":""}]
["選手の部員No",{"$f":"IF(AA1=5,$AD$12,$AE$12)","v":{"$error":"#N/A"}},"Pos.","氏　　名",{"$nulls":3},"ふりがな",null,null,"学年","生年月日",null,null,"日本サッカー協会　　選手登録番号",null,null,"登録チーム所属歴",{"$nulls":5},"特記事項　　　　　　（代表経験など）",{"$nulls":5},"登録人数","背番号"]
[{"$nulls":17},"U-15",null,null,"U-12",{"$nulls":6},"読取用氏名データ",null,"ポジションリスト"]
[null,1,null,{"$f":"IF($A14<>0,VLOOKUP($A14,選手データ!$C$2:$V$102,4,FALSE),\"\")","v":""},{"$nulls":3},{"$f":"IF($A14<>0,VLOOKUP($A14,選手データ!$C$2:$V$102,5,FALSE),\"\")","v":""},null,null,{"$f":"IF($A14<>0,VLOOKUP($A14,選手データ!$C$2:$V$102,3,FALSE),\"\")","v":""},{"$f":"IF($A14<>0,VLOOKUP($A14,選手データ!$C$2:$V$102,9,FALSE),\"\")","v":""},null,null,{"$f":"IF($A14<>0,VLOOKUP($A14,選手データ!$C$2:$V$102,2,FALSE),\"\")","v":""},null,null,{"$f":"IF($A14<>0,VLOOKUP($A14,選手データ!$C$2:$V$102,7,FALSE),\"\")","v":""},null,null,{"$f":"IF($A14<>0,VLOOKUP($A14,選手データ!$C$2:$V$102,8,FALSE),\"\")","v":""},{"$nulls":6},{"$f":"IF($A14<>0,VLOOKUP($A14,選手データ!$C$2:$V$102,4,FALSE),\"\")","v":""}]
[null,2,null,{"$f":"IF($A15<>0,VLOOKUP($A15,選手データ!$C$2:$V$102,4,FALSE),\"\")","v":""},{"$nulls":3},{"$f":"IF($A15<>0,VLOOKUP($A15,選手データ!$C$2:$V$102,5,FALSE),\"\")","v":""},null,null,{"$f":"IF($A15<>0,VLOOKUP($A15,選手データ!$C$2:$V$102,3,FALSE),\"\")","v":""},{"$f":"IF($A15<>0,VLOOKUP($A15,選手データ!$C$2:$V$102,9,FALSE),\"\")","v":""},null,null,{"$f":"IF($A15<>0,VLOOKUP($A15,選手データ!$C$2:$V$102,2,FALSE),\"\")","v":""},null,null,{"$f":"IF($A15<>0,VLOOKUP($A15,選手データ!$C$2:$V$102,7,FALSE),\"\")","v":""},null,null,{"$f":"IF($A15<>0,VLOOKUP($A15,選手データ!$C$2:$V$102,8,FALSE),\"\")","v":""},{"$nulls":6},{"$f":"IF($A15<>0,VLOOKUP($A15,選手データ!$C$2:$V$102,4,FALSE),\"\")","v":""},null,null,"GK","DF","MF","FW"]
[null,3,null,{"$f":"IF($A16<>0,VLOOKUP($A16,選手データ!$C$2:$V$102,4,FALSE),\"\")","v":""},{"$nulls":3},{"$f":"IF($A16<>0,VLOOKUP($A16,選手データ!$C$2:$V$102,5,FALSE),\"\")","v":""},null,null,{"$f":"IF($A16<>0,VLOOKUP($A16,選手データ!$C$2:$V$102,3,FALSE),\"\")","v":""},{"$f":"IF($A16<>0,VLOOKUP($A16,選手データ!$C$2:$V$102,9,FALSE),\"\")","v":""},null,null,{"$f":"IF($A16<>0,VLOOKUP($A16,選手データ!$C$2:$V$102,2,FALSE),\"\")","v":""},null,null,{"$f":"IF($A16<>0,VLOOKUP($A16,選手データ!$C$2:$V$102,7,FALSE),\"\")","v":""},null,null,{"$f":"IF($A16<>0,VLOOKUP($A16,選手データ!$C$2:$V$102,8,FALSE),\"\")","v":""},{"$nulls":6},{"$f":"IF($A16<>0,VLOOKUP($A16,選手データ!$C$2:$V$102,4,FALSE),\"\")","v":""},null,"審判員資格リスト"]
[null,4,null,{"$f":"IF($A17<>0,VLOOKUP($A17,選手データ!$C$2:$V$102,4,FALSE),\"\")","v":""},{"$nulls":3},{"$f":"IF($A17<>0,VLOOKUP($A17,選手データ!$C$2:$V$102,5,FALSE),\"\")","v":""},null,null,{"$f":"IF($A17<>0,VLOOKUP($A17,選手データ!$C$2:$V$102,3,FALSE),\"\")","v":""},{"$f":"IF($A17<>0,VLOOKUP($A17,選手データ!$C$2:$V$102,9,FALSE),\"\")","v":""},null,null,{"$f":"IF($A17<>0,VLOOKUP($A17,選手データ!$C$2:$V$102,2,FALSE),\"\")","v":""},null,null,{"$f":"IF($A17<>0,VLOOKUP($A17,選手データ!$C$2:$V$102,7,FALSE),\"\")","v":""},null,null,{"$f":"IF($A17<>0,VLOOKUP($A17,選手データ!$C$2:$V$102,8,FALSE),\"\")","v":""},{"$nulls":6},{"$f":"IF($A17<>0,VLOOKUP($A17,選手データ!$C$2:$V$102,4,FALSE),\"\")","v":""}]
[null,5,null,{"$f":"IF($A18<>0,VLOOKUP($A18,選手データ!$C$2:$V$102,4,FALSE),\"\")","v":""},{"$nulls":3},{"$f":"IF($A18<>0,VLOOKUP($A18,選手データ!$C$2:$V$102,5,FALSE),\"\")","v":""},null,null,{"$f":"IF($A18<>0,VLOOKUP($A18,選手データ!$C$2:$V$102,3,FALSE),\"\")","v":""},{"$f":"IF($A18<>0,VLOOKUP($A18,選手データ!$C$2:$V$102,9,FALSE),\"\")","v":""},null,null,{"$f":"IF($A18<>0,VLOOKUP($A18,選手データ!$C$2:$V$102,2,FALSE),\"\")","v":""},null,null,{"$f":"IF($A18<>0,VLOOKUP($A18,選手データ!$C$2:$V$102,7,FALSE),\"\")","v":""},null,null,{"$f":"IF($A18<>0,VLOOKUP($A18,選手データ!$C$2:$V$102,8,FALSE),\"\")","v":""},{"$nulls":6},{"$f":"IF($A18<>0,VLOOKUP($A18,選手データ!$C$2:$V$102,4,FALSE),\"\")","v":""}]
[null,6,null,{"$f":"IF($A19<>0,VLOOKUP($A19,選手データ!$C$2:$V$102,4,FALSE),\"\")","v":""},{"$nulls":3},{"$f":"IF($A19<>0,VLOOKUP($A19,選手データ!$C$2:$V$102,5,FALSE),\"\")","v":""},null,null,{"$f":"IF($A19<>0,VLOOKUP($A19,選手データ!$C$2:$V$102,3,FALSE),\"\")","v":""},{"$f":"IF($A19<>0,VLOOKUP($A19,選手データ!$C$2:$V$102,9,FALSE),\"\")","v":""},null,null,{"$f":"IF($A19<>0,VLOOKUP($A19,選手データ!$C$2:$V$102,2,FALSE),\"\")","v":""},null,null,{"$f":"IF($A19<>0,VLOOKUP($A19,選手データ!$C$2:$V$102,7,FALSE),\"\")","v":""},null,null,{"$f":"IF($A19<>0,VLOOKUP($A19,選手データ!$C$2:$V$102,8,FALSE),\"\")","v":""},{"$nulls":6},{"$f":"IF($A19<>0,VLOOKUP($A19,選手データ!$C$2:$V$102,4,FALSE),\"\")","v":""}]
[null,7,null,{"$f":"IF($A20<>0,VLOOKUP($A20,選手データ!$C$2:$V$102,4,FALSE),\"\")","v":""},{"$nulls":3},{"$f":"IF($A20<>0,VLOOKUP($A20,選手データ!$C$2:$V$102,5,FALSE),\"\")","v":""},null,null,{"$f":"IF($A20<>0,VLOOKUP($A20,選手データ!$C$2:$V$102,3,FALSE),\"\")","v":""},{"$f":"IF($A20<>0,VLOOKUP($A20,選手データ!$C$2:$V$102,9,FALSE),\"\")","v":""},null,null,{"$f":"IF($A20<>0,VLOOKUP($A20,選手データ!$C$2:$V$102,2,FALSE),\"\")","v":""},null,null,{"$f":"IF($A20<>0,VLOOKUP($A20,選手データ!$C$2:$V$102,7,FALSE),\"\")","v":""},null,null,{"$f":"IF($A20<>0,VLOOKUP($A20,選手データ!$C$2:$V$102,8,FALSE),\"\")","v":""},{"$nulls":6},{"$f":"IF($A20<>0,VLOOKUP($A20,選手データ!$C$2:$V$102,4,FALSE),\"\")","v":""}]
[null,8,null,{"$f":"IF($A21<>0,VLOOKUP($A21,選手データ!$C$2:$V$102,4,FALSE),\"\")","v":""},{"$nulls":3},{"$f":"IF($A21<>0,VLOOKUP($A21,選手データ!$C$2:$V$102,5,FALSE),\"\")","v":""},null,null,{"$f":"IF($A21<>0,VLOOKUP($A21,選手データ!$C$2:$V$102,3,FALSE),\"\")","v":""},{"$f":"IF($A21<>0,VLOOKUP($A21,選手データ!$C$2:$V$102,9,FALSE),\"\")","v":""},null,null,{"$f":"IF($A21<>0,VLOOKUP($A21,選手データ!$C$2:$V$102,2,FALSE),\"\")","v":""},null,null,{"$f":"IF($A21<>0,VLOOKUP($A21,選手データ!$C$2:$V$102,7,FALSE),\"\")","v":""},null,null,{"$f":"IF($A21<>0,VLOOKUP($A21,選手データ!$C$2:$V$102,8,FALSE),\"\")","v":""},{"$nulls":6},{"$f":"IF($A21<>0,VLOOKUP($A21,選手データ!$C$2:$V$102,4,FALSE),\"\")","v":""}]
[null,9,null,{"$f":"IF($A22<>0,VLOOKUP($A22,選手データ!$C$2:$V$102,4,FALSE),\"\")","v":""},{"$nulls":3},{"$f":"IF($A22<>0,VLOOKUP($A22,選手データ!$C$2:$V$102,5,FALSE),\"\")","v":""},null,null,{"$f":"IF($A22<>0,VLOOKUP($A22,選手データ!$C$2:$V$102,3,FALSE),\"\")","v":""},{"$f":"IF($A22<>0,VLOOKUP($A22,選手データ!$C$2:$V$102,9,FALSE),\"\")","v":""},null,null,{"$f":"IF($A22<>0,VLOOKUP($A22,選手データ!$C$2:$V$102,2,FALSE),\"\")","v":""},null,null,{"$f":"IF($A22<>0,VLOOKUP($A22,選手データ!$C$2:$V$102,7,FALSE),\"\")","v":""},null,null,{"$f":"IF($A22<>0,VLOOKUP($A22,選手データ!$C$2:$V$102,8,FALSE),\"\")","v":""},{"$nulls":6},{"$f":"IF($A22<>0,VLOOKUP($A22,選手データ!$C$2:$V$102,4,FALSE),\"\")","v":""}]
[null,10,null,{"$f":"IF($A23<>0,VLOOKUP($A23,選手データ!$C$2:$V$102,4,FALSE),\"\")","v":""},{"$nulls":3},{"$f":"IF($A23<>0,VLOOKUP($A23,選手データ!$C$2:$V$102,5,FALSE),\"\")","v":""},null,null,{"$f":"IF($A23<>0,VLOOKUP($A23,選手データ!$C$2:$V$102,3,FALSE),\"\")","v":""},{"$f":"IF($A23<>0,VLOOKUP($A23,選手データ!$C$2:$V$102,9,FALSE),\"\")","v":""},null,null,{"$f":"IF($A23<>0,VLOOKUP($A23,選手データ!$C$2:$V$102,2,FALSE),\"\")","v":""},null,null,{"$f":"IF($A23<>0,VLOOKUP($A23,選手データ!$C$2:$V$102,7,FALSE),\"\")","v":""},null,null,{"$f":"IF($A23<>0,VLOOKUP($A23,選手データ!$C$2:$V$102,8,FALSE),\"\")","v":""},{"$nulls":6},{"$f":"IF($A23<>0,VLOOKUP($A23,選手データ!$C$2:$V$102,4,FALSE),\"\")","v":""}]
[null,11,null,{"$f":"IF($A24<>0,VLOOKUP($A24,選手データ!$C$2:$V$102,4,FALSE),\"\")","v":""},{"$nulls":3},{"$f":"IF($A24<>0,VLOOKUP($A24,選手データ!$C$2:$V$102,5,FALSE),\"\")","v":""},null,null,{"$f":"IF($A24<>0,VLOOKUP($A24,選手データ!$C$2:$V$102,3,FALSE),\"\")","v":""},{"$f":"IF($A24<>0,VLOOKUP($A24,選手データ!$C$2:$V$102,9,FALSE),\"\")","v":""},null,null,{"$f":"IF($A24<>0,VLOOKUP($A24,選手データ!$C$2:$V$102,2,FALSE),\"\")","v":""},null,null,{"$f":"IF($A24<>0,VLOOKUP($A24,選手データ!$C$2:$V$102,7,FALSE),\"\")","v":""},null,null,{"$f":"IF($A24<>0,VLOOKUP($A24,選手データ!$C$2:$V$102,8,FALSE),\"\")","v":""},{"$nulls":6},{"$f":"IF($A24<>0,VLOOKUP($A24,選手データ!$C$2:$V$102,4,FALSE),\"\")","v":""}]
[null,12,null,{"$f":"IF($A25<>0,VLOOKUP($A25,選手データ!$C$2:$V$102,4,FALSE),\"\")","v":""},{"$nulls":3},{"$f":"IF($A25<>0,VLOOKUP($A25,選手データ!$C$2:$V$102,5,FALSE),\"\")","v":""},null,null,{"$f":"IF($A25<>0,VLOOKUP($A25,選手データ!$C$2:$V$102,3,FALSE),\"\")","v":""},{"$f":"IF($A25<>0,VLOOKUP($A25,選手データ!$C$2:$V$102,9,FALSE),\"\")","v":""},null,null,{"$f":"IF($A25<>0,VLOOKUP($A25,選手データ!$C$2:$V$102,2,FALSE),\"\")","v":""},null,null,{"$f":"IF($A25<>0,VLOOKUP($A25,選手データ!$C$2:$V$102,7,FALSE),\"\")","v":""},null,null,{"$f":"IF($A25<>0,VLOOKUP($A25,選手データ!$C$2:$V$102,8,FALSE),\"\")","v":""},{"$nulls":6},{"$f":"IF($A25<>0,VLOOKUP($A25,選手データ!$C$2:$V$102,4,FALSE),\"\")","v":""}]
[null,13,null,{"$f":"IF($A26<>0,VLOOKUP($A26,選手データ!$C$2:$V$102,4,FALSE),\"\")","v":""},{"$nulls":3},{"$f":"IF($A26<>0,VLOOKUP($A26,選手データ!$C$2:$V$102,5,FALSE),\"\")","v":""},null,null,{"$f":"IF($A26<>0,VLOOKUP($A26,選手データ!$C$2:$V$102,3,FALSE),\"\")","v":""},{"$f":"IF($A26<>0,VLOOKUP($A26,選手データ!$C$2:$V$102,9,FALSE),\"\")","v":""},null,null,{"$f":"IF($A26<>0,VLOOKUP($A26,選手データ!$C$2:$V$102,2,FALSE),\"\")","v":""},null,null,{"$f":"IF($A26<>0,VLOOKUP($A26,選手データ!$C$2:$V$102,7,FALSE),\"\")","v":""},null,null,{"$f":"IF($A26<>0,VLOOKUP($A26,選手データ!$C$2:$V$102,8,FALSE),\"\")","v":""},{"$nulls":6},{"$f":"IF($A26<>0,VLOOKUP($A26,選手データ!$C$2:$V$102,4,FALSE),\"\")","v":""}]
[null,14,null,{"$f":"IF($A27<>0,VLOOKUP($A27,選手データ!$C$2:$V$102,4,FALSE),\"\")","v":""},{"$nulls":3},{"$f":"IF($A27<>0,VLOOKUP($A27,選手データ!$C$2:$V$102,5,FALSE),\"\")","v":""},null,null,{"$f":"IF($A27<>0,VLOOKUP($A27,選手データ!$C$2:$V$102,3,FALSE),\"\")","v":""},{"$f":"IF($A27<>0,VLOOKUP($A27,選手データ!$C$2:$V$102,9,FALSE),\"\")","v":""},null,null,{"$f":"IF($A27<>0,VLOOKUP($A27,選手データ!$C$2:$V$102,2,FALSE),\"\")","v":""},null,null,{"$f":"IF($A27<>0,VLOOKUP($A27,選手データ!$C$2:$V$102,7,FALSE),\"\")","v":""},null,null,{"$f":"IF($A27<>0,VLOOKUP($A27,選手データ!$C$2:$V$102,8,FALSE),\"\")","v":""},{"$nulls":6},{"$f":"IF($A27<>0,VLOOKUP($A27,選手データ!$C$2:$V$102,4,FALSE),\"\")","v":""}]
[null,15,null,{"$f":"IF($A28<>0,VLOOKUP($A28,選手データ!$C$2:$V$102,4,FALSE),\"\")","v":""},{"$nulls":3},{"$f":"IF($A28<>0,VLOOKUP($A28,選手データ!$C$2:$V$102,5,FALSE),\"\")","v":""},null,null,{"$f":"IF($A28<>0,VLOOKUP($A28,選手データ!$C$2:$V$102,3,FALSE),\"\")","v":""},{"$f":"IF($A28<>0,VLOOKUP($A28,選手データ!$C$2:$V$102,9,FALSE),\"\")","v":""},null,null,{"$f":"IF($A28<>0,VLOOKUP($A28,選手データ!$C$2:$V$102,2,FALSE),\"\")","v":""},null,null,{"$f":"IF($A28<>0,VLOOKUP($A28,選手データ!$C$2:$V$102,7,FALSE),\"\")","v":""},null,null,{"$f":"IF($A28<>0,VLOOKUP($A28,選手データ!$C$2:$V$102,8,FALSE),\"\")","v":""},{"$nulls":6},{"$f":"IF($A28<>0,VLOOKUP($A28,選手データ!$C$2:$V$102,4,FALSE),\"\")","v":""}]
[null,16,null,{"$f":"IF($A29<>0,VLOOKUP($A29,選手データ!$C$2:$V$102,4,FALSE),\"\")","v":""},{"$nulls":3},{"$f":"IF($A29<>0,VLOOKUP($A29,選手データ!$C$2:$V$102,5,FALSE),\"\")","v":""},null,null,{"$f":"IF($A29<>0,VLOOKUP($A29,選手データ!$C$2:$V$102,3,FALSE),\"\")","v":""},{"$f":"IF($A29<>0,VLOOKUP($A29,選手データ!$C$2:$V$102,9,FALSE),\"\")","v":""},null,null,{"$f":"IF($A29<>0,VLOOKUP($A29,選手データ!$C$2:$V$102,2,FALSE),\"\")","v":""},null,null,{"$f":"IF($A29<>0,VLOOKUP($A29,選手データ!$C$2:$V$102,7,FALSE),\"\")","v":""},null,null,{"$f":"IF($A29<>0,VLOOKUP($A29,選手データ!$C$2:$V$102,8,FALSE),\"\")","v":""},{"$nulls":6},{"$f":"IF($A29<>0,VLOOKUP($A29,選手データ!$C$2:$V$102,4,FALSE),\"\")","v":""}]
[null,17,null,{"$f":"IF($A30<>0,VLOOKUP($A30,選手データ!$C$2:$V$102,4,FALSE),\"\")","v":""},{"$nulls":3},{"$f":"IF($A30<>0,VLOOKUP($A30,選手データ!$C$2:$V$102,5,FALSE),\"\")","v":""},null,null,{"$f":"IF($A30<>0,VLOOKUP($A30,選手データ!$C$2:$V$102,3,FALSE),\"\")","v":""},{"$f":"IF($A30<>0,VLOOKUP($A30,選手データ!$C$2:$V$102,9,FALSE),\"\")","v":""},null,null,{"$f":"IF($A30<>0,VLOOKUP($A30,選手データ!$C$2:$V$102,2,FALSE),\"\")","v":""},null,null,{"$f":"IF($A30<>0,VLOOKUP($A30,選手データ!$C$2:$V$102,7,FALSE),\"\")","v":""},null,null,{"$f":"IF($A30<>0,VLOOKUP($A30,選手データ!$C$2:$V$102,8,FALSE),\"\")","v":""},{"$nulls":6},{"$f":"IF($A30<>0,VLOOKUP($A30,選手データ!$C$2:$V$102,4,FALSE),\"\")","v":""}]
[null,18,null,{"$f":"IF($A31<>0,VLOOKUP($A31,選手データ!$C$2:$V$102,4,FALSE),\"\")","v":""},{"$nulls":3},{"$f":"IF($A31<>0,VLOOKUP($A31,選手データ!$C$2:$V$102,5,FALSE),\"\")","v":""},null,null,{"$f":"IF($A31<>0,VLOOKUP($A31,選手データ!$C$2:$V$102,3,FALSE),\"\")","v":""},{"$f":"IF($A31<>0,VLOOKUP($A31,選手データ!$C$2:$V$102,9,FALSE),\"\")","v":""},null,null,{"$f":"IF($A31<>0,VLOOKUP($A31,選手データ!$C$2:$V$102,2,FALSE),\"\")","v":""},null,null,{"$f":"IF($A31<>0,VLOOKUP($A31,選手データ!$C$2:$V$102,7,FALSE),\"\")","v":""},null,null,{"$f":"IF($A31<>0,VLOOKUP($A31,選手データ!$C$2:$V$102,8,FALSE),\"\")","v":""},{"$nulls":6},{"$f":"IF($A31<>0,VLOOKUP($A31,選手データ!$C$2:$V$102,4,FALSE),\"\")","v":""}]
[null,19,null,{"$f":"IF($A32<>0,VLOOKUP($A32,選手データ!$C$2:$V$102,4,FALSE),\"\")","v":""},{"$nulls":3},{"$f":"IF($A32<>0,VLOOKUP($A32,選手データ!$C$2:$V$102,5,FALSE),\"\")","v":""},null,null,{"$f":"IF($A32<>0,VLOOKUP($A32,選手データ!$C$2:$V$102,3,FALSE),\"\")","v":""},{"$f":"IF($A32<>0,VLOOKUP($A32,選手データ!$C$2:$V$102,9,FALSE),\"\")","v":""},null,null,{"$f":"IF($A32<>0,VLOOKUP($A32,選手データ!$C$2:$V$102,2,FALSE),\"\")","v":""},null,null,{"$f":"IF($A32<>0,VLOOKUP($A32,選手データ!$C$2:$V$102,7,FALSE),\"\")","v":""},null,null,{"$f":"IF($A32<>0,VLOOKUP($A32,選手データ!$C$2:$V$102,8,FALSE),\"\")","v":""},{"$nulls":6},{"$f":"IF($A32<>0,VLOOKUP($A32,選手データ!$C$2:$V$102,4,FALSE),\"\")","v":""}]
[null,20,null,{"$f":"IF($A33<>0,VLOOKUP($A33,選手データ!$C$2:$V$102,4,FALSE),\"\")","v":""},{"$nulls":3},{"$f":"IF($A33<>0,VLOOKUP($A33,選手データ!$C$2:$V$102,5,FALSE),\"\")","v":""},null,null,{"$f":"IF($A33<>0,VLOOKUP($A33,選手データ!$C$2:$V$102,3,FALSE),\"\")","v":""},{"$f":"IF($A33<>0,VLOOKUP($A33,選手データ!$C$2:$V$102,9,FALSE),\"\")","v":""},null,null,{"$f":"IF($A33<>0,VLOOKUP($A33,選手データ!$C$2:$V$102,2,FALSE),\"\")","v":""},null,null,{"$f":"IF($A33<>0,VLOOKUP($A33,選手データ!$C$2:$V$102,7,FALSE),\"\")","v":""},null,null,{"$f":"IF($A33<>0,VLOOKUP($A33,選手データ!$C$2:$V$102,8,FALSE),\"\")","v":""},{"$nulls":6},{"$f":"IF($A33<>0,VLOOKUP($A33,選手データ!$C$2:$V$102,4,FALSE),\"\")","v":""}]
[null,21,null,{"$f":"IF($A34<>0,VLOOKUP($A34,選手データ!$C$2:$V$102,4,FALSE),\"\")","v":""},{"$nulls":3},{"$f":"IF($A34<>0,VLOOKUP($A34,選手データ!$C$2:$V$102,5,FALSE),\"\")","v":""},null,null,{"$f":"IF($A34<>0,VLOOKUP($A34,選手データ!$C$2:$V$102,3,FALSE),\"\")","v":""},{"$f":"IF($A34<>0,VLOOKUP($A34,選手データ!$C$2:$V$102,9,FALSE),\"\")","v":""},null,null,{"$f":"IF($A34<>0,VLOOKUP($A34,選手データ!$C$2:$V$102,2,FALSE),\"\")","v":""},null,null,{"$f":"IF($A34<>0,VLOOKUP($A34,選手データ!$C$2:$V$102,7,FALSE),\"\")","v":""},null,null,{"$f":"IF($A34<>0,VLOOKUP($A34,選手データ!$C$2:$V$102,8,FALSE),\"\")","v":""},{"$nulls":6},{"$f":"IF($A34<>0,VLOOKUP($A34,選手データ!$C$2:$V$102,4,FALSE),\"\")","v":""}]
[null,22,null,{"$f":"IF($A35<>0,VLOOKUP($A35,選手データ!$C$2:$V$102,4,FALSE),\"\")","v":""},{"$nulls":3},{"$f":"IF($A35<>0,VLOOKUP($A35,選手データ!$C$2:$V$102,5,FALSE),\"\")","v":""},null,null,{"$f":"IF($A35<>0,VLOOKUP($A35,選手データ!$C$2:$V$102,3,FALSE),\"\")","v":""},{"$f":"IF($A35<>0,VLOOKUP($A35,選手データ!$C$2:$V$102,9,FALSE),\"\")","v":""},null,null,{"$f":"IF($A35<>0,VLOOKUP($A35,選手データ!$C$2:$V$102,2,FALSE),\"\")","v":""},null,null,{"$f":"IF($A35<>0,VLOOKUP($A35,選手データ!$C$2:$V$102,7,FALSE),\"\")","v":""},null,null,{"$f":"IF($A35<>0,VLOOKUP($A35,選手データ!$C$2:$V$102,8,FALSE),\"\")","v":""},{"$nulls":6},{"$f":"IF($A35<>0,VLOOKUP($A35,選手データ!$C$2:$V$102,4,FALSE),\"\")","v":""}]
[null,23,null,{"$f":"IF($A36<>0,VLOOKUP($A36,選手データ!$C$2:$V$102,4,FALSE),\"\")","v":""},{"$nulls":3},{"$f":"IF($A36<>0,VLOOKUP($A36,選手データ!$C$2:$V$102,5,FALSE),\"\")","v":""},null,null,{"$f":"IF($A36<>0,VLOOKUP($A36,選手データ!$C$2:$V$102,3,FALSE),\"\")","v":""},{"$f":"IF($A36<>0,VLOOKUP($A36,選手データ!$C$2:$V$102,9,FALSE),\"\")","v":""},null,null,{"$f":"IF($A36<>0,VLOOKUP($A36,選手データ!$C$2:$V$102,2,FALSE),\"\")","v":""},null,null,{"$f":"IF($A36<>0,VLOOKUP($A36,選手データ!$C$2:$V$102,7,FALSE),\"\")","v":""},null,null,{"$f":"IF($A36<>0,VLOOKUP($A36,選手データ!$C$2:$V$102,8,FALSE),\"\")","v":""},{"$nulls":6},{"$f":"IF($A36<>0,VLOOKUP($A36,選手データ!$C$2:$V$102,4,FALSE),\"\")","v":""}]
[null,24,null,{"$f":"IF($A37<>0,VLOOKUP($A37,選手データ!$C$2:$V$102,4,FALSE),\"\")","v":""},{"$nulls":3},{"$f":"IF($A37<>0,VLOOKUP($A37,選手データ!$C$2:$V$102,5,FALSE),\"\")","v":""},null,null,{"$f":"IF($A37<>0,VLOOKUP($A37,選手データ!$C$2:$V$102,3,FALSE),\"\")","v":""},{"$f":"IF($A37<>0,VLOOKUP($A37,選手データ!$C$2:$V$102,9,FALSE),\"\")","v":""},null,null,{"$f":"IF($A37<>0,VLOOKUP($A37,選手データ!$C$2:$V$102,2,FALSE),\"\")","v":""},null,null,{"$f":"IF($A37<>0,VLOOKUP($A37,選手データ!$C$2:$V$102,7,FALSE),\"\")","v":""},null,null,{"$f":"IF($A37<>0,VLOOKUP($A37,選手データ!$C$2:$V$102,8,FALSE),\"\")","v":""},{"$nulls":6},{"$f":"IF($A37<>0,VLOOKUP($A37,選手データ!$C$2:$V$102,4,FALSE),\"\")","v":""}]
[null,25,null,{"$f":"IF($A38<>0,VLOOKUP($A38,選手データ!$C$2:$V$102,4,FALSE),\"\")","v":""},{"$nulls":3},{"$f":"IF($A38<>0,VLOOKUP($A38,選手データ!$C$2:$V$102,5,FALSE),\"\")","v":""},null,null,{"$f":"IF($A38<>0,VLOOKUP($A38,選手データ!$C$2:$V$102,3,FALSE),\"\")","v":""},{"$f":"IF($A38<>0,VLOOKUP($A38,選手データ!$C$2:$V$102,9,FALSE),\"\")","v":""},null,null,{"$f":"IF($A38<>0,VLOOKUP($A38,選手データ!$C$2:$V$102,2,FALSE),\"\")","v":""},null,null,{"$f":"IF($A38<>0,VLOOKUP($A38,選手データ!$C$2:$V$102,7,FALSE),\"\")","v":""},null,null,{"$f":"IF($A38<>0,VLOOKUP($A38,選手データ!$C$2:$V$102,8,FALSE),\"\")","v":""},{"$nulls":6},{"$f":"IF($A38<>0,VLOOKUP($A38,選手データ!$C$2:$V$102,4,FALSE),\"\")","v":""}]
["上へ戻る"]
[null,"上記のとおり申請します。"]
[null,null,{"$f":"IF($A$14<>0,選手データ!$AD$6,\"\")","v":""},null,"年",{"$f":"IF($A$14<>0,選手データ!$AD$16,\"\")","v":""},"月",{"$f":"IF($A$14<>0,選手データ!$AD$18,\"\")","v":""},"日",{"$nulls":5},"（チーム内役職）",null,null,"（氏名）"]
[{"$nulls":11},"記入責任者：",{"$nulls":4},":",{"$nulls":7},"印"]

{"sheet":"チーム情報変更届＆追加・移籍・抹消届","index":5,"n_rows":45,"n_cols":39,"rows_kept":45,"merged":[[0,0,4,0],[0,1,0,24],[1,7,1,11],[1,12,1,18],[2,2,2,6],[2,7,2,12],[2,13,2,20],[2,22,2,23],[2,27,4,31],[3,2,3,6],[3,7,3,12],[3,13,3,20],[3,22,3,23],[4,2,4,24],[5,1,18,1],[5,2,5,6],[5,7,5,12],[5,13,5,24],[6,2,10,2],[6,7,6,12],[6,13,6,24],[6,27,6,28],[7,7,7,12],[7,13,7,24],[8,7,8,12],[8,13,8,24],[9,7,9,12],[9,13,9,24],[10,7,10,8],[10,10,10,12],[10,13,10,17],[10,19,10,24],[10,27,10,28],[11,2,13,2],[11,7,11,12],[11,13,11,18],[11,19,11,24],[12,7,12,12],[12,13,12,18],[12,19,12,24],[13,7,13,12],[13,13,13,18],[13,19,13,24],[13,27,13,28],[14,2,18,2],[14,3,14,6],[14,7,14,8],[14,9,14,10],[14,11,14,12],[14,13,14,16],[14,17,14,20],[14,21,14,24],[15,7,15,8],[15,9,15,10],[15,11,15,12],[15,13,15,16],[15,17,15,20],[15,21,15,24],[16,7,16,8],[16,9,16,10],[16,11,16,12],[16,13,16,16],[16,17,16,20],[16,21,16,24],[17,7,17,8],[17,9,17,10],[17,11,17,12],[17,13,17,16],[17,17,17,20],[17,21,17,24],[18,7,18,8],[18,9,18,10],[18,11,18,12],[18,13,18,16],[18,17,18,20],[18,21,18,24],[19,1,19,24],[20,0,21,0],[20,1,21,1],[20,2,21,3],[20,4,20,6],[20,7,21,7],[20,8,21,10],[20,11,21,13],[20,14,21,14],[20,15,21,17],[20,18,21,20],[20,21,20,24],[20,27,20,28],[21,4,21,6],[21,21,21,22],[21,23,21,24],[22,2,22,3],[22,4,22,6],[22,8,22,10],[22,11,22,13],[22,15,22,17],[22,18,22,20],[22,21,22,22],[22,23,22,24],[22,27,22,28],[23,2,23,3],[23,4,23,6],[23,8,23,10],[23,11,23,13],[23,15,23,17],[23,18,23,20],[23,21,23,22],[23,23,23,24],[24,2,24,3],[24,4,24,6],[24,8,24,10],[24,11,24,13],[24,15,24,17],[24,18,24,20],[24,21,24,22],[24,23,24,24],[24,27,24,28],[25,2,25,3],[25,4,25,6],[25,8,25,10],[25,11,25,13],[25,15,25,17],[25,18,25,20],[25,21,25,22],[25,23,25,24],[26,2,26,3],[26,4,26,6],[26,8,26,10],[26,11,26,13],[26,15,26,17],[26,18,26,20],[26,21,26,22],[26,23,26,24],[26,27,26,28],[27,2,27,3],[27,4,27,6],[27,8,27,10],[27,11,27,13],[27,15,27,17],[27,18,27,20],[27,21,27,22],[27,23,27,24],[28,2,28,3],[28,4,28,6],[28,8,28,10],[28,11,28,13],[28,15,28,17],[28,18,28,20],[28,21,28,22],[28,23,28,24],[29,2,29,3],[29,4,29,6],[29,8,29,10],[29,11,29,13],[29,15,29,17],[29,18,29,20],[29,21,29,22],[29,23,29,24],[30,2,30,3],[30,4,30,6],[30,8,30,10],[30,11,30,13],[30,15,30,17],[30,18,30,20],[30,21,30,22],[30,23,30,24],[31,2,31,3],[31,8,31,10],[31,11,31,13],[31,15,31,17],[31,18,31,20],[31,21,31,22],[31,23,31,24],[32,2,32,3],[32,8,32,10],[32,11,32,13],[32,15,32,17],[32,18,32,20],[32,21,32,22],[32,23,32,24],[33,2,33,3],[33,8,33,10],[33,11,33,13],[33,15,33,17],[33,18,33,20],[33,21,33,22],[33,23,33,24],[34,2,34,3],[34,8,34,10],[34,11,34,13],[34,15,34,17],[34,18,34,20],[34,21,34,22],[34,23,34,24],[35,2,35,3],[35,8,35,10],[35,11,35,13],[35,15,35,17],[35,18,35,20],[35,21,35,22],[35,23,35,24],[36,2,36,3],[36,4,36,6],[36,8,36,10],[36,11,36,13],[36,15,36,17],[36,18,36,20],[36,21,36,22],[36,23,36,24],[37,2,37,3],[37,4,37,6],[37,8,37,10],[37,11,37,13],[37,15,37,17],[37,18,37,20],[37,21,37,22],[37,23,37,24],[38,2,38,3],[38,4,38,6],[38,8,38,10],[38,11,38,13],[38,15,38,17],[38,18,38,20],[38,21,38,22],[38,23,38,24],[39,2,39,3],[39,4,39,6],[39,8,39,10],[39,11,39,13],[39,15,39,17],[39,18,39,20],[39,21,39,22],[39,23,39,24],[40,2,40,3],[40,4,40,6],[40,8,40,10],[40,11,40,13],[40,15,40,17],[40,18,40,20],[40,21,40,22],[40,23,40,24],[41,2,41,3],[41,4,41,6],[41,8,41,10],[41,11,41,13],[41,15,41,17],[41,18,41,20],[41,21,41,22],[41,23,41,24],[42,0,45,0],[43,1,43,24],[44,2,44,3],[44,4,44,5],[44,12,44,14],[44,15,44,21]]}
["トップページに戻る",{"$f":"トップページ!$B$15","v":0}]
[{"$nulls":7},{"$f":"トップページ!$B$17","v":{"$error":"#N/A"}},{"$nulls":4},{"$f":"トップページ!$E$17","v":{"$error":"#N/A"}}]
[null,null,"カテゴリー",{"$nulls":4},"出場チーム名",{"$nulls":5},"協会登録名称",{"$nulls":8},"届出回数"]
[{"$nulls":13},{"$f":"トップページ!$S$9","v":0}]
[null,null,"〔　チーム情報変更届　〕"]
[null,"変更ある項目をクリックして☑を入れてください。","項目",{"$nulls":4},"旧事項",{"$nulls":5},"新事項"]
[false,null,"チーム連絡先",{"$nulls":4},{"$f":"IF(A7=TRUE,トップページ!$S$13,\"\")","v":""},{"$nulls":19},"届出回数",null,1,2,3,4,5,6,7,8,9,10]
[false,{"$nulls":6},{"$f":"IF(A8=TRUE,トップページ!$S$14,\"\")","v":""}]
[false,{"$nulls":6},{"$f":"IF(A9=TRUE,トップページ!$S$15,\"\")","v":""}]
[false,{"$nulls":6},{"$f":"IF(A10=TRUE,トップページ!$S$16,\"\")","v":""}]
[false,{"$nulls":6},{"$f":"IF(A11=TRUE,トップページ!$S$17,\"\")","v":""},null,"＠",{"$f":"IF(A11=TRUE,トップページ!$V$17,\"\")","v":""},{"$nulls":7},"＠",{"$nulls":8},"カテゴリー",null,"DIVISION：Ⅰ","DIVISION：Ⅱ","DIVISION：Ⅲ"]
[null,null,"スタッフ",{"$nulls":4},"氏名",{"$nulls":5},"氏名",{"$nulls":5},"ふりがな"]
[false,{"$nulls":6},{"$f":"IF(A13=TRUE,トップページ!$S$20,\"\")","v":""}]
[false,{"$nulls":6},{"$f":"IF(A14=TRUE,トップページ!$S$21,\"\")","v":""},{"$nulls":19},"登録区分",null,"①リーグ登録","②プレーオフ登録"]
[null,null,"ユニフォーム",{"$nulls":4},"シャツ",null,"ショーツ",null,"ストッキング",null,"シャツ",{"$nulls":3},"ショーツ",{"$nulls":3},"ストッキング"]
[false,{"$nulls":6},{"$f":"IF(A16=TRUE,トップページ!$S$32,\"\")","v":""},null,{"$f":"IF(A16=TRUE,トップページ!$U$32,\"\")","v":""},null,{"$f":"IF(A16=TRUE,トップページ!$W$32,\"\")","v":""}]
[false,{"$nulls":6},{"$f":"IF(A17=TRUE,トップページ!$T$32,\"\")","v":""},null,{"$f":"IF(A17=TRUE,トップページ!$V$32,\"\")","v":""},null,{"$f":"IF(A17=TRUE,トップページ!$X$32,\"\")","v":""}]
[false,{"$nulls":6},{"$f":"IF(A18=TRUE,トップページ!$S$33,\"\")","v":""},null,{"$f":"IF(A18=TRUE,トップページ!$U$33,\"\")","v":""},null,{"$f":"IF(A18=TRUE,トップページ!$W$33,\"\")","v":""}]
[false,{"$nulls":6},{"$f":"IF(A19=TRUE,トップページ!$T$33,\"\")","v":""},null,{"$f":"IF(A19=TRUE,トップページ!$V$33,\"\")","v":""},null,{"$f":"IF(A19=TRUE,トップページ!$X$33,\"\")","v":""}]
[null,"〔選手追加・移籍・抹消届〕"]
["部員No","届出人数","届出内容",null,"○移籍元チーム名",null,null,"Pos.","氏　　名",null,null,"ふりがな",null,null,"学年","生年月日",null,null,"日本サッカー協会　　　選手登録番号",null,null,"登録チーム所属歴",{"$nulls":5},"形態",null,"U-18（ファーストチーム）","U-18サテライト（セカンドチーム）","U-17（セカンドチーム）","合同チーム"]
[{"$nulls":4},"○抹消　チーム名",{"$nulls":16},"U-15",null,"U-12"]
[null,1,{"$nulls":6},{"$f":"IF($A23<>0,VLOOKUP($A23,選手データ!$C$2:$V$102,4,FALSE),\"\")","v":""},null,null,{"$f":"IF($A23<>0,VLOOKUP($A23,選手データ!$C$2:$V$102,5,FALSE),\"\")","v":""},null,null,{"$f":"IF($A23<>0,VLOOKUP($A23,選手データ!$C$2:$V$102,3,FALSE),\"\")","v":""},{"$f":"IF($A23<>0,VLOOKUP($A23,選手データ!$C$2:$V$102,9,FALSE),\"\")","v":""},null,null,{"$f":"IF($A23<>0,VLOOKUP($A23,選手データ!$C$2:$V$102,2,FALSE),\"\")","v":""},null,null,{"$f":"IF($A23<>0,VLOOKUP($A23,選手データ!$C$2:$V$102,7,FALSE),\"\")","v":""},null,{"$f":"IF($A23<>0,VLOOKUP($A23,選手データ!$C$2:$V$102,8,FALSE),\"\")","v":""},{"$nulls":3},"審判資格",null,"1級","2級","3級","ユース3級","4級","ユース４級"]
[null,2,{"$nulls":6},{"$f":"IF($A24<>0,VLOOKUP($A24,選手データ!$C$2:$V$102,4,FALSE),\"\")","v":""},null,null,{"$f":"IF($A24<>0,VLOOKUP($A24,選手データ!$C$2:$V$102,5,FALSE),\"\")","v":""},null,null,{"$f":"IF($A24<>0,VLOOKUP($A24,選手データ!$C$2:$V$102,3,FALSE),\"\")","v":""},{"$f":"IF($A24<>0,VLOOKUP($A24,選手データ!$C$2:$V$102,9,FALSE),\"\")","v":""},null,null,{"$f":"IF($A24<>0,VLOOKUP($A24,選手データ!$C$2:$V$102,2,FALSE),\"\")","v":""},null,null,{"$f":"IF($A24<>0,VLOOKUP($A24,選手データ!$C$2:$V$102,7,FALSE),\"\")","v":""},null,{"$f":"IF($A24<>0,VLOOKUP($A24,選手データ!$C$2:$V$102,8,FALSE),\"\")","v":""}]
[null,3,{"$nulls":6},{"$f":"IF($A25<>0,VLOOKUP($A25,選手データ!$C$2:$V$102,4,FALSE),\"\")","v":""},null,null,{"$f":"IF($A25<>0,VLOOKUP($A25,選手データ!$C$2:$V$102,5,FALSE),\"\")","v":""},null,null,{"$f":"IF($A25<>0,VLOOKUP($A25,選手データ!$C$2:$V$102,3,FALSE),\"\")","v":""},{"$f":"IF($A25<>0,VLOOKUP($A25,選手データ!$C$2:$V$102,9,FALSE),\"\")","v":""},null,null,{"$f":"IF($A25<>0,VLOOKUP($A25,選手データ!$C$2:$V$102,2,FALSE),\"\")","v":""},null,null,{"$f":"IF($A25<>0,VLOOKUP($A25,選手データ!$C$2:$V$102,7,FALSE),\"\")","v":""},null,{"$f":"IF($A25<>0,VLOOKUP($A25,選手データ!$C$2:$V$102,8,FALSE),\"\")","v":""},{"$nulls":3},"内容",null,"■移籍追加","□新規追加","●登録移籍","▼降格移籍","△昇格移籍","×抹消"]
[null,4,{"$nulls":6},{"$f":"IF($A26<>0,VLOOKUP($A26,選手データ!$C$2:$V$102,4,FALSE),\"\")","v":""},null,null,{"$f":"IF($A26<>0,VLOOKUP($A26,選手データ!$C$2:$V$102,5,FALSE),\"\")","v":""},null,null,{"$f":"IF($A26<>0,VLOOKUP($A26,選手データ!$C$2:$V$102,3,FALSE),\"\")","v":""},{"$f":"IF($A26<>0,VLOOKUP($A26,選手データ!$C$2:$V$102,9,FALSE),\"\")","v":""},null,null,{"$f":"IF($A26<>0,VLOOKUP($A26,選手データ!$C$2:$V$102,2,FALSE),\"\")","v":""},null,null,{"$f":"IF($A26<>0,VLOOKUP($A26,選手データ!$C$2:$V$102,7,FALSE),\"\")","v":""},null,{"$f":"IF($A26<>0,VLOOKUP($A26,選手データ!$C$2:$V$102,8,FALSE),\"\")","v":""}]
[null,5,{"$nulls":6},{"$f":"IF($A27<>0,VLOOKUP($A27,選手データ!$C$2:$V$102,4,FALSE),\"\")","v":""},null,null,{"$f":"IF($A27<>0,VLOOKUP($A27,選手データ!$C$2:$V$102,5,FALSE),\"\")","v":""},null,null,{"$f":"IF($A27<>0,VLOOKUP($A27,選手データ!$C$2:$V$102,3,FALSE),\"\")","v":""},{"$f":"IF($A27<>0,VLOOKUP($A27,選手データ!$C$2:$V$102,9,FALSE),\"\")","v":""},null,null,{"$f":"IF($A27<>0,VLOOKUP($A27,選手データ!$C$2:$V$102,2,FALSE),\"\")","v":""},null,null,{"$f":"IF($A27<>0,VLOOKUP($A27,選手データ!$C$2:$V$102,7,FALSE),\"\")","v":""},null,{"$f":"IF($A27<>0,VLOOKUP($A27,選手データ!$C$2:$V$102,8,FALSE),\"\")","v":""},{"$nulls":3},"ポジション",null,"GK","DF","MF","FW"]
[null,6,{"$nulls":6},{"$f":"IF($A28<>0,VLOOKUP($A28,選手データ!$C$2:$V$102,4,FALSE),\"\")","v":""},null,null,{"$f":"IF($A28<>0,VLOOKUP($A28,選手データ!$C$2:$V$102,5,FALSE),\"\")","v":""},null,null,{"$f":"IF($A28<>0,VLOOKUP($A28,選手データ!$C$2:$V$102,3,FALSE),\"\")","v":""},{"$f":"IF($A28<>0,VLOOKUP($A28,選手データ!$C$2:$V$102,9,FALSE),\"\")","v":""},null,null,{"$f":"IF($A28<>0,VLOOKUP($A28,選手データ!$C$2:$V$102,2,FALSE),\"\")","v":""},null,null,{"$f":"IF($A28<>0,VLOOKUP($A28,選手データ!$C$2:$V$102,7,FALSE),\"\")","v":""},null,{"$f":"IF($A28<>0,VLOOKUP($A28,選手データ!$C$2:$V$102,8,FALSE),\"\")","v":""}]
[null,7,{"$nulls":6},{"$f":"IF($A29<>0,VLOOKUP($A29,選手データ!$C$2:$V$102,4,FALSE),\"\")","v":""},null,null,{"$f":"IF($A29<>0,VLOOKUP($A29,選手データ!$C$2:$V$102,5,FALSE),\"\")","v":""},null,null,{"$f":"IF($A29<>0,VLOOKUP($A29,選手データ!$C$2:$V$102,3,FALSE),\"\")","v":""},{"$f":"IF($A29<>0,VLOOKUP($A29,選手データ!$C$2:$V$102,9,FALSE),\"\")","v":""},null,null,{"$f":"IF($A29<>0,VLOOKUP($A29,選手データ!$C$2:$V$102,2,FALSE),\"\")","v":""},null,null,{"$f":"IF($A29<>0,VLOOKUP($A29,選手データ!$C$2:$V$102,7,FALSE),\"\")","v":""},null,{"$f":"IF($A29<>0,VLOOKUP($A29,選手データ!$C$2:$V$102,8,FALSE),\"\")","v":""}]
[null,8,{"$nulls":6},{"$f":"IF($A30<>0,VLOOKUP($A30,選手データ!$C$2:$V$102,4,FALSE),\"\")","v":""},null,null,{"$f":"IF($A30<>0,VLOOKUP($A30,選手データ!$C$2:$V$102,5,FALSE),\"\")","v":""},null,null,{"$f":"IF($A30<>0,VLOOKUP($A30,選手データ!$C$2:$V$102,3,FALSE),\"\")","v":""},{"$f":"IF($A30<>0,VLOOKUP($A30,選手データ!$C$2:$V$102,9,FALSE),\"\")","v":""},null,null,{"$f":"IF($A30<>0,VLOOKUP($A30,選手データ!$C$2:$V$102,2,FALSE),\"\")","v":""},null,null,{"$f":"IF($A30<>0,VLOOKUP($A30,選手データ!$C$2:$V$102,7,FALSE),\"\")","v":""},null,{"$f":"IF($A30<>0,VLOOKUP($A30,選手データ!$C$2:$V$102,8,FALSE),\"\")","v":""}]
[null,9,{"$nulls":6},{"$f":"IF($A31<>0,VLOOKUP($A31,選手データ!$C$2:$V$102,4,FALSE),\"\")","v":""},null,null,{"$f":"IF($A31<>0,VLOOKUP($A31,選手データ!$C$2:$V$102,5,FALSE),\"\")","v":""},null,null,{"$f":"IF($A31<>0,VLOOKUP($A31,選手データ!$C$2:$V$102,3,FALSE),\"\")","v":""},{"$f":"IF($A31<>0,VLOOKUP($A31,選手データ!$C$2:$V$102,9,FALSE),\"\")","v":""},null,null,{"$f":"IF($A31<>0,VLOOKUP($A31,選手データ!$C$2:$V$102,2,FALSE),\"\")","v":""},null,null,{"$f":"IF($A31<>0,VLOOKUP($A31,選手データ!$C$2:$V$102,7,FALSE),\"\")","v":""},null,{"$f":"IF($A31<>0,VLOOKUP($A31,選手データ!$C$2:$V$102,8,FALSE),\"\")","v":""}]
[null,10,{"$nulls":6},{"$f":"IF($A32<>0,VLOOKUP($A32,選手データ!$C$2:$V$102,4,FALSE),\"\")","v":""},null,null,{"$f":"IF($A32<>0,VLOOKUP($A32,選手データ!$C$2:$V$102,5,FALSE),\"\")","v":""},null,null,{"$f":"IF($A32<>0,VLOOKUP($A32,選手データ!$C$2:$V$102,3,FALSE),\"\")","v":""},{"$f":"IF($A32<>0,VLOOKUP($A32,選手データ!$C$2:$V$102,9,FALSE),\"\")","v":""},null,null,{"$f":"IF($A32<>0,VLOOKUP($A32,選手データ!$C$2:$V$102,2,FALSE),\"\")","v":""},null,null,{"$f":"IF($A32<>0,VLOOKUP($A32,選手データ!$C$2:$V$102,7,FALSE),\"\")","v":""},null,{"$f":"IF($A32<>0,VLOOKUP($A32,選手データ!$C$2:$V$102,8,FALSE),\"\")","v":""}]
[null,11,{"$nulls":6},{"$f":"IF($A33<>0,VLOOKUP($A33,選手データ!$C$2:$V$102,4,FALSE),\"\")","v":""},null,null,{"$f":"IF($A33<>0,VLOOKUP($A33,選手データ!$C$2:$V$102,5,FALSE),\"\")","v":""},null,null,{"$f":"IF($A33<>0,VLOOKUP($A33,選手データ!$C$2:$V$102,3,FALSE),\"\")","v":""},{"$f":"IF($A33<>0,VLOOKUP($A33,選手データ!$C$2:$V$102,9,FALSE),\"\")","v":""},null,null,{"$f":"IF($A33<>0,VLOOKUP($A33,選手データ!$C$2:$V$102,2,FALSE),\"\")","v":""},null,null,{"$f":"IF($A33<>0,VLOOKUP($A33,選手データ!$C$2:$V$102,7,FALSE),\"\")","v":""},null,{"$f":"IF($A33<>0,VLOOKUP($A33,選手データ!$C$2:$V$102,8,FALSE),\"\")","v":""}]
[null,12,{"$nulls":6},{"$f":"IF($A34<>0,VLOOKUP($A34,選手データ!$C$2:$V$102,4,FALSE),\"\")","v":""},null,null,{"$f":"IF($A34<>0,VLOOKUP($A34,選手データ!$C$2:$V$102,5,FALSE),\"\")","v":""},null,null,{"$f":"IF($A34<>0,VLOOKUP($A34,選手データ!$C$2:$V$102,3,FALSE),\"\")","v":""},{"$f":"IF($A34<>0,VLOOKUP($A34,選手データ!$C$2:$V$102,9,FALSE),\"\")","v":""},null,null,{"$f":"IF($A34<>0,VLOOKUP($A34,選手データ!$C$2:$V$102,2,FALSE),\"\")","v":""},null,null,{"$f":"IF($A34<>0,VLOOKUP($A34,選手データ!$C$2:$V$102,7,FALSE),\"\")","v":""},null,{"$f":"IF($A34<>0,VLOOKUP($A34,選手データ!$C$2:$V$102,8,FALSE),\"\")","v":""}]
[null,13,{"$nulls":6},{"$f":"IF($A35<>0,VLOOKUP($A35,選手データ!$C$2:$V$102,4,FALSE),\"\")","v":""},null,null,{"$f":"IF($A35<>0,VLOOKUP($A35,選手データ!$C$2:$V$102,5,FALSE),\"\")","v":""},null,null,{"$f":"IF($A35<>0,VLOOKUP($A35,選手データ!$C$2:$V$102,3,FALSE),\"\")","v":""},{"$f":"IF($A35<>0,VLOOKUP($A35,選手データ!$C$2:$V$102,9,FALSE),\"\")","v":""},null,null,{"$f":"IF($A35<>0,VLOOKUP($A35,選手データ!$C$2:$V$102,2,FALSE),\"\")","v":""},null,null,{"$f":"IF($A35<>0,VLOOKUP($A35,選手データ!$C$2:$V$102,7,FALSE),\"\")","v":""},null,{"$f":"IF($A35<>0,VLOOKUP($A35,選手データ!$C$2:$V$102,8,FALSE),\"\")","v":""}]
[null,14,{"$nulls":6},{"$f":"IF($A36<>0,VLOOKUP($A36,選手データ!$C$2:$V$102,4,FALSE),\"\")","v":""},null,null,{"$f":"IF($A36<>0,VLOOKUP($A36,選手データ!$C$2:$V$102,5,FALSE),\"\")","v":""},null,null,{"$f":"IF($A36<>0,VLOOKUP($A36,選手データ!$C$2:$V$102,3,FALSE),\"\")","v":""},{"$f":"IF($A36<>0,VLOOKUP($A36,選手データ!$C$2:$V$102,9,FALSE),\"\")","v":""},null,null,{"$f":"IF($A36<>0,VLOOKUP($A36,選手データ!$C$2:$V$102,2,FALSE),\"\")","v":""},null,null,{"$f":"IF($A36<>0,VLOOKUP($A36,選手データ!$C$2:$V$102,7,FALSE),\"\")","v":""},null,{"$f":"IF($A36<>0,VLOOKUP($A36,選手データ!$C$2:$V$102,8,FALSE),\"\")","v":""}]
[null,15,{"$nulls":6},{"$f":"IF($A37<>0,VLOOKUP($A37,選手データ!$C$2:$V$102,4,FALSE),\"\")","v":""},null,null,{"$f":"IF($A37<>0,VLOOKUP($A37,選手データ!$C$2:$V$102,5,FALSE),\"\")","v":""},null,null,{"$f":"IF($A37<>0,VLOOKUP($A37,選手データ!$C$2:$V$102,3,FALSE),\"\")","v":""},{"$f":"IF($A37<>0,VLOOKUP($A37,選手データ!$C$2:$V$102,9,FALSE),\"\")","v":""},null,null,{"$f":"IF($A37<>0,VLOOKUP($A37,選手データ!$C$2:$V$102,2,FALSE),\"\")","v":""},null,null,{"$f":"IF($A37<>0,VLOOKUP($A37,選手データ!$C$2:$V$102,7,FALSE),\"\")","v":""},null,{"$f":"IF($A37<>0,VLOOKUP($A37,選手データ!$C$2:$V$102,8,FALSE),\"\")","v":""}]
[null,16,{"$nulls":6},{"$f":"IF($A38<>0,VLOOKUP($A38,選手データ!$C$2:$V$102,4,FALSE),\"\")","v":""},null,null,{"$f":"IF($A38<>0,VLOOKUP($A38,選手データ!$C$2:$V$102,5,FALSE),\"\")","v":""},null,null,{"$f":"IF($A38<>0,VLOOKUP($A38,選手データ!$C$2:$V$102,3,FALSE),\"\")","v":""},{"$f":"IF($A38<>0,VLOOKUP($A38,選手データ!$C$2:$V$102,9,FALSE),\"\")","v":""},null,null,{"$f":"IF($A38<>0,VLOOKUP($A38,選手データ!$C$2:$V$102,2,FALSE),\"\")","v":""},null,null,{"$f":"IF($A38<>0,VLOOKUP($A38,選手データ!$C$2:$V$102,7,FALSE),\"\")","v":""},null,{"$f":"IF($A38<>0,VLOOKUP($A38,選手データ!$C$2:$V$102,8,FALSE),\"\")","v":""}]
[null,17,{"$nulls":6},{"$f":"IF($A39<>0,VLOOKUP($A39,選手データ!$C$2:$V$102,4,FALSE),\"\")","v":""},null,null,{"$f":"IF($A39<>0,VLOOKUP($A39,選手データ!$C$2:$V$102,5,FALSE),\"\")","v":""},null,null,{"$f":"IF($A39<>0,VLOOKUP($A39,選手データ!$C$2:$V$102,3,FALSE),\"\")","v":""},{"$f":"IF($A39<>0,VLOOKUP($A39,選手データ!$C$2:$V$102,9,FALSE),\"\")","v":""},null,null,{"$f":"IF($A39<>0,VLOOKUP($A39,選手データ!$C$2:$V$102,2,FALSE),\"\")","v":""},null,null,{"$f":"IF($A39<>0,VLOOKUP($A39,選手データ!$C$2:$V$102,7,FALSE),\"\")","v":""},null,{"$f":"IF($A39<>0,VLOOKUP($A39,選手データ!$C$2:$V$102,8,FALSE),\"\")","v":""}]
[null,18,{"$nulls":6},{"$f":"IF($A40<>0,VLOOKUP($A40,選手データ!$C$2:$V$102,4,FALSE),\"\")","v":""},null,null,{"$f":"IF($A40<>0,VLOOKUP($A40,選手データ!$C$2:$V$102,5,FALSE),\"\")","v":""},null,null,{"$f":"IF($A40<>0,VLOOKUP($A40,選手データ!$C$2:$V$102,3,FALSE),\"\")","v":""},{"$f":"IF($A40<>0,VLOOKUP($A40,選手データ!$C$2:$V$102,9,FALSE),\"\")","v":""},null,null,{"$f":"IF($A40<>0,VLOOKUP($A40,選手データ!$C$2:$V$102,2,FALSE),\"\")","v":""},null,null,{"$f":"IF($A40<>0,VLOOKUP($A40,選手データ!$C$2:$V$102,7,FALSE),\"\")","v":""},null,{"$f":"IF($A40<>0,VLOOKUP($A40,選手データ!$C$2:$V$102,8,FALSE),\"\")","v":""}]
[null,19,{"$nulls":6},{"$f":"IF($A41<>0,VLOOKUP($A41,選手データ!$C$2:$V$102,4,FALSE),\"\")","v":""},null,null,{"$f":"IF($A41<>0,VLOOKUP($A41,選手データ!$C$2:$V$102,5,FALSE),\"\")","v":""},null,null,{"$f":"IF($A41<>0,VLOOKUP($A41,選手データ!$C$2:$V$102,3,FALSE),\"\")","v":""},{"$f":"IF($A41<>0,VLOOKUP($A41,選手データ!$C$2:$V$102,9,FALSE),\"\")","v":""},null,null,{"$f":"IF($A41<>0,VLOOKUP($A41,選手データ!$C$2:$V$102,2,FALSE),\"\")","v":""},null,null,{"$f":"IF($A41<>0,VLOOKUP($A41,選手データ!$C$2:$V$102,7,FALSE),\"\")","v":""},null,{"$f":"IF($A41<>0,VLOOKUP($A41,選手データ!$C$2:$V$102,8,FALSE),\"\")","v":""}]
[null,20,{"$nulls":6},{"$f":"IF($A42<>0,VLOOKUP($A42,選手データ!$C$2:$V$102,4,FALSE),\"\")","v":""},null,null,{"$f":"IF($A42<>0,VLOOKUP($A42,選手データ!$C$2:$V$102,5,FALSE),\"\")","v":""},null,null,{"$f":"IF($A42<>0,VLOOKUP($A42,選手データ!$C$2:$V$102,3,FALSE),\"\")","v":""},{"$f":"IF($A42<>0,VLOOKUP($A42,選手データ!$C$2:$V$102,9,FALSE),\"\")","v":""},null,null,{"$f":"IF($A42<>0,VLOOKUP($A42,選手データ!$C$2:$V$102,2,FALSE),\"\")","v":""},null,null,{"$f":"IF($A42<>0,VLOOKUP($A42,選手データ!$C$2:$V$102,7,FALSE),\"\")","v":""},null,{"$f":"IF($A42<>0,VLOOKUP($A42,選手データ!$C$2:$V$102,8,FALSE),\"\")","v":""}]
["上に戻る"]
[null,"上記のとおり変更を申請します。"]
[null,null,"申請日：",null,{"$f":"IF($A$23<>0,選手データ!$AD$6,\"\")","v":""},null,"年",{"$f":"IF($A$23<>0,選手データ!$AD$16,\"\")","v":""},"月",{"$f":"IF($A$23<>0,選手データ!$AD$18,\"\")","v":""},"日",null,"記載責任者名：",{"$nulls":9},"印"]

{"sheet":"登録外選手エントリー届","index":6,"n_rows":18,"n_cols":48,"rows_kept":18,"merged":[[0,0,7,0],[0,1,0,21],[1,5,1,9],[1,10,1,15],[1,16,1,21],[3,1,3,3],[3,5,3,10],[3,12,3,14],[3,16,3,21],[4,1,4,21],[6,1,6,3],[6,5,6,21],[6,35,8,39],[7,1,8,1],[7,2,8,3],[7,5,8,5],[7,6,8,8],[7,9,8,10],[7,11,8,11],[7,12,8,13],[7,14,8,16],[7,19,8,19],[7,20,7,21],[9,2,9,3],[9,6,9,8],[9,9,9,10],[9,12,9,13],[9,14,9,16],[10,2,10,3],[10,6,10,8],[10,9,10,10],[10,12,10,13],[10,14,10,16],[11,2,11,3],[11,6,11,8],[11,9,11,10],[11,12,11,13],[11,14,11,16],[14,1,14,6],[14,8,14,10],[14,12,14,14],[14,16,14,21],[15,1,16,6],[15,8,16,10],[15,12,16,14],[15,16,15,21],[16,16,16,21],[16,45,16,47],[17,47,17,48]]}
["トップページへ戻る",{"$f":"トップページ!$B$15","v":0}]
[{"$nulls":5},{"$f":"トップページ!$B$17","v":{"$error":"#N/A"}},{"$nulls":4},{"$f":"トップページ!$E$17","v":{"$error":"#N/A"}},{"$nulls":5},"〔登録外選手エントリー届〕"]
[]
[null,"チーム名：",{"$nulls":10},"協会登録団体名：",{"$nulls":3},{"$f":"トップページ!$S$9","v":0}]
[null,"（財）日本サッカー協会登録済の選手から、下記の選手を選手証を添えて本試合へエントリーします。"]
[]
[null,"大会登録済選手（OUT）",{"$nulls":3},"大会登録外エントリー選手（　IN　）",{"$nulls":29},"ポジションリスト"]
[null,"背番号","氏　　名",null,null,"ﾎﾟｼﾞｼｮﾝ","氏名",null,null,"ふりがな",null,"学年","生年月日",null,"日本協会登録番号",null,null,"身長","体重","出身中学","所　属　歴"]
["部員NO.",{"$nulls":16},"（㎝）","（ｋｇ）",null,"U-15","U-12"]
[{"$nulls":6},{"$f":"IF(A10<>0,VLOOKUP($A10,選手データ!$C$2:$V$102,4,FALSE),\"\")","v":""},null,null,{"$f":"IF(A10<>0,VLOOKUP($A10,選手データ!$C$2:$V$102,5,FALSE),\"\")","v":""},null,{"$f":"IF(A10<>0,VLOOKUP($A10,選手データ!$C$2:$V$102,3,FALSE),\"\")","v":""},{"$f":"IF($A10<>0,VLOOKUP($A10,選手データ!$C$2:$V$102,9,FALSE),\"\")","v":""},null,{"$f":"IF($A10<>0,VLOOKUP($A10,選手データ!$C$2:$V$102,2,FALSE),\"\")","v":""},null,null,{"$f":"IF($A10<>0,VLOOKUP($A10,選手データ!$C$2:$V$102,10,FALSE),\"\")","v":""},{"$f":"IF($A10<>0,VLOOKUP($A10,選手データ!$C$2:$V$102,11,FALSE),\"\")","v":""},{"$f":"IF($A10<>0,VLOOKUP($A10,選手データ!$C$2:$V$102,6,FALSE),\"\")","v":""},{"$f":"IF($A10<>0,VLOOKUP($A10,選手データ!$C$2:$V$102,7,FALSE),\"\")","v":""},{"$f":"IF($A10<>0,VLOOKUP($A10,選手データ!$C$2:$V$102,8,FALSE),\"\")","v":""},{"$nulls":14},"GK","DF","MF","FW"]
[{"$nulls":6},{"$f":"IF(A11<>0,VLOOKUP($A11,選手データ!$C$2:$V$102,4,FALSE),\"\")","v":""},null,null,{"$f":"IF(A11<>0,VLOOKUP($A11,選手データ!$C$2:$V$102,5,FALSE),\"\")","v":""},null,{"$f":"IF(A11<>0,VLOOKUP($A11,選手データ!$C$2:$V$102,3,FALSE),\"\")","v":""},{"$f":"IF($A11<>0,VLOOKUP($A11,選手データ!$C$2:$V$102,9,FALSE),\"\")","v":""},null,{"$f":"IF($A11<>0,VLOOKUP($A11,選手データ!$C$2:$V$102,2,FALSE),\"\")","v":""},null,null,{"$f":"IF($A11<>0,VLOOKUP($A11,選手データ!$C$2:$V$102,10,FALSE),\"\")","v":""},{"$f":"IF($A11<>0,VLOOKUP($A11,選手データ!$C$2:$V$102,11,FALSE),\"\")","v":""},{"$f":"IF($A11<>0,VLOOKUP($A11,選手データ!$C$2:$V$102,6,FALSE),\"\")","v":""},{"$f":"IF($A11<>0,VLOOKUP($A11,選手データ!$C$2:$V$102,7,FALSE),\"\")","v":""},{"$f":"IF($A11<>0,VLOOKUP($A11,選手データ!$C$2:$V$102,8,FALSE),\"\")","v":""}]
[{"$nulls":6},{"$f":"IF(A12<>0,VLOOKUP($A12,選手データ!$C$2:$V$102,4,FALSE),\"\")","v":""},null,null,{"$f":"IF(A12<>0,VLOOKUP($A12,選手データ!$C$2:$V$102,5,FALSE),\"\")","v":""},null,{"$f":"IF(A12<>0,VLOOKUP($A12,選手データ!$C$2:$V$102,3,FALSE),\"\")","v":""},{"$f":"IF($A12<>0,VLOOKUP($A12,選手データ!$C$2:$V$102,9,FALSE),\"\")","v":""},null,{"$f":"IF($A12<>0,VLOOKUP($A12,選手データ!$C$2:$V$102,2,FALSE),\"\")","v":""},null,null,{"$f":"IF($A12<>0,VLOOKUP($A12,選手データ!$C$2:$V$102,10,FALSE),\"\")","v":""},{"$f":"IF($A12<>0,VLOOKUP($A12,選手データ!$C$2:$V$102,11,FALSE),\"\")","v":""},{"$f":"IF($A12<>0,VLOOKUP($A12,選手データ!$C$2:$V$102,6,FALSE),\"\")","v":""},{"$f":"IF($A12<>0,VLOOKUP($A12,選手データ!$C$2:$V$102,7,FALSE),\"\")","v":""},{"$f":"IF($A12<>0,VLOOKUP($A12,選手データ!$C$2:$V$102,8,FALSE),\"\")","v":""}]
[]
[]
[null,"ＧＡＭＥ　ＤＡＴＥ",{"$nulls":6},"ＨＯＭＥ（自チーム）",{"$nulls":3},"ＡＷＡＹ（相手チーム）",{"$nulls":3},"ＣＯＡＣＨ’Ｓ　ＳＩＧＮＡＴＵＲＥ"]
[null,"　　　　　　月　　　　日",{"$nulls":14},"監　督　署　名"]
[{"$nulls":11},"ＶＳ",{"$nulls":33},"対"]
[{"$nulls":47},"ＣＨＡＮＧＥ　ＮＵＭＢＥＲ"]

{"sheet":"ASPA宿泊申込書","index":7,"n_rows":26,"n_cols":38,"rows_kept":26,"merged":[[0,0,5,0],[1,1,1,9],[2,1,2,8],[2,13,2,15],[3,1,3,7],[3,13,3,16],[3,17,3,24],[4,13,5,14],[4,15,4,16],[4,17,4,24],[5,15,5,16],[5,17,5,24],[7,1,7,24],[8,1,8,12],[8,13,8,24],[9,1,9,24],[10,7,10,12],[10,13,10,20],[11,1,11,24],[12,1,12,24],[13,1,16,4],[13,5,13,7],[13,8,13,24],[14,5,14,7],[14,9,14,12],[14,13,14,14],[14,15,14,24],[15,5,15,7],[15,9,15,16],[15,18,15,24],[16,5,16,7],[16,8,16,14],[16,15,16,17],[16,18,16,24],[18,2,18,12],[18,13,18,17],[18,18,18,22],[18,23,18,24],[18,30,19,34],[19,5,19,9],[19,10,19,14],[19,15,19,19],[19,20,19,24],[20,5,20,6],[20,9,22,9],[20,10,20,11],[20,14,22,14],[20,15,20,16],[20,19,22,19],[20,20,20,21],[20,24,22,24],[21,0,25,0],[21,5,21,6],[21,10,21,11],[21,15,21,16],[21,20,21,21],[22,5,22,6],[22,10,22,11],[22,15,22,16],[22,20,22,21],[22,30,22,31],[23,5,23,6],[23,10,23,11],[23,15,23,16],[23,20,23,21],[24,5,24,6],[24,10,24,11],[24,15,24,16],[24,20,24,21],[25,1,25,24]]}
["トップページへ戻る"]
[null,{"$f":"トップページ!$B$15","v":0}]
[null,"ASPA事務局　様"]
[null,"（安比民宿　白樺荘)",{"$nulls":11},"ASPA事務局:",{"$nulls":3},"安比民宿　白樺荘"]
[{"$nulls":13},"送信先",null,"TEL",null,"0195－72－5822"]
[{"$nulls":15},"FAX",null,"0195－72－5262"]
[]
[null,{"$f":"トップページ!$B$15","v":0}]
[null,{"$f":"トップページ!$B$17","v":{"$error":"#N/A"}},{"$nulls":11},{"$f":"トップページ!$E$17","v":{"$error":"#N/A"}}]
[null,"宿泊申込書【ASPA専用】"]
[{"$nulls":6},"(","申込日：",{"$nulls":5},{"$f":"TODAY()","v":"2009-04-05"},{"$nulls":7},")"]
[null,"標記大会へ参加するにあたり、下記のとおり宿泊を希望いたします。"]
[null,"記"]
[null,"配宿連絡先",{"$nulls":3},"チーム名称",null,null,{"$f":"IF(トップページ!$S$9<>0,トップページ!$S$9,\"\")","v":""}]
[{"$nulls":5},"チーム所在地",null,null,"〒",{"$f":"IF(トップページ!$S$13<>0,トップページ!$S$13,\"\")","v":""},{"$nulls":3},"住所",null,{"$f":"IF(トップページ!$S$14<>0,トップページ!$S$14,\"\")","v":""}]
[{"$nulls":5},"チーム連絡先",null,null,"TEL：",{"$f":"IF(トップページ!$S$15<>0,トップページ!$S$15,\"\")","v":""},{"$nulls":7},"FAX：",{"$f":"IF(トップページ!$S$16<>0,トップページ!$S$16,\"\")","v":""}]
[{"$nulls":5},"担当者名",{"$nulls":9},"担当者携帯番号"]
[]
[null,null,"配宿希望内訳",{"$nulls":27},"大会レベル"]
[{"$nulls":5},"前泊（大会前日）",{"$nulls":4},"大会1日目",{"$nulls":4},"大会2日目",{"$nulls":4},"大会3日目"]
[{"$nulls":5},"生徒（男）",null,null,"人","弁当数","生徒（男）",null,null,"人","弁当数","生徒（男）",null,null,"人","弁当数","生徒（男）",null,null,"人","弁当数",{"$nulls":5},"1次大会","2次大会","決勝大会"]
["上へ戻る",{"$nulls":4},"生徒（女）",null,null,"人",null,"生徒（女）",null,null,"人",null,"生徒（女）",null,null,"人",null,"生徒（女）",null,null,"人"]
[{"$nulls":5},"大人（男）",null,null,"人",null,"大人（男）",null,null,"人",null,"大人（男）",null,null,"人",null,"大人（男）",null,null,"人",{"$nulls":6},"成績",null,"○希望する","×希望しない","3部","途中辞退","出場停止","未登録"]
[{"$nulls":5},"大人（女）",null,null,"人",null,"大人（女）",null,null,"人",null,"大人（女）",null,null,"人",null,"大人（女）",null,null,"人"]
[{"$nulls":5},"合計数",null,{"$f":"SUM(H21:H24)","v":0},"人","個","合計数",null,{"$f":"SUM(M21:M24)","v":0},"人","個","合計数",null,{"$f":"SUM(R21:R24)","v":0},"人","個","合計数",null,{"$f":"SUM(W21:W24)","v":0},"人","個"]
[null,"以上"]

{"sheet":"選手交代カード","index":8,"n_rows":62,"n_cols":27,"rows_kept":62,"merged":[[0,0,0,6],[2,3,2,11],[2,18,2,26],[3,3,3,11],[3,18,3,26],[4,1,6,5],[4,9,6,13],[4,16,6,20],[4,24,6,28],[6,6,6,8],[6,21,6,23],[7,6,7,8],[7,21,7,23],[8,1,8,6],[8,8,8,13],[8,16,8,21],[8,23,8,28],[9,1,9,6],[9,8,9,13],[9,16,9,21],[9,23,9,28],[10,1,10,6],[10,8,10,13],[10,16,10,21],[10,23,10,28],[12,4,13,10],[12,11,12,13],[12,19,13,25],[12,26,12,28],[13,11,13,13],[13,26,13,28],[14,4,17,10],[14,11,17,13],[14,19,17,25],[14,26,17,28],[15,1,15,3],[15,16,15,18],[16,1,16,3],[16,16,16,18],[18,4,21,10],[18,11,21,13],[18,19,21,25],[18,26,21,28],[19,1,19,3],[19,16,19,18],[20,1,20,3],[20,16,20,18],[23,1,23,2],[23,3,23,4],[23,5,23,6],[23,8,23,13],[23,16,23,17],[23,18,23,19],[23,20,23,21],[23,23,23,28],[24,1,24,2],[24,3,24,4],[24,8,24,13],[24,16,24,17],[24,18,24,19],[24,23,24,28],[25,8,25,13],[25,23,25,28],[27,1,27,2],[27,3,27,4],[27,8,27,9],[27,10,27,11],[27,16,27,17],[27,18,27,19],[27,23,27,24],[27,25,27,26],[28,8,29,13],[28,23,29,28],[30,1,30,13],[30,16,30,28],[33,3,33,11],[33,18,33,26],[34,3,34,11],[34,18,34,26],[35,1,37,5],[35,9,37,13],[35,16,37,20],[35,24,37,28],[37,6,37,8],[37,21,37,23],[38,6,38,8],[38,21,38,23],[39,1,39,6],[39,8,39,13],[39,16,39,21],[39,23,39,28],[40,1,40,6],[40,8,40,13],[40,16,40,21],[40,23,40,28],[41,1,41,6],[41,8,41,13],[41,16,41,21],[41,23,41,28],[43,4,44,10],[43,11,43,13],[43,19,44,25],[43,26,43,28],[44,11,44,13],[44,26,44,28],[45,4,48,10],[45,11,48,13],[45,19,48,25],[45,26,48,28],[46,1,46,3],[46,16,46,18],[47,1,47,3],[47,16,47,18],[49,4,52,10],[49,11,52,13],[49,19,52,25],[49,26,52,28],[50,1,50,3],[50,16,50,18],[51,1,51,3],[51,16,51,18],[54,1,54,2],[54,3,54,4],[54,5,54,6],[54,8,54,13],[54,16,54,17],[54,18,54,19],[54,20,54,21],[54,23,54,28],[55,1,55,2],[55,3,55,4],[55,8,55,13],[55,16,55,17],[55,18,55,19],[55,23,55,28],[56,8,56,13],[56,23,56,28],[58,1,58,2],[58,3,58,4],[58,8,58,9],[58,10,58,11],[58,16,58,17],[58,18,58,19],[58,23,58,24],[58,25,58,26],[59,8,60,13],[59,23,60,28],[61,1,61,13],[61,16,61,28]]}
["トップページへ戻る"]
[]
[{"$nulls":3},"ＣＨＡＮＧＥ　ＯＦ　ＰＬＡＹＥＲＳ",{"$nulls":14},"ＣＨＡＮＧＥ　ＯＦ　ＰＬＡＹＥＲＳ"]
[{"$nulls":3},"選手交代カード",{"$nulls":14},"選手交代カード"]
[]
[]
[{"$nulls":6},"ＶＳ",{"$nulls":14},"ＶＳ"]
[{"$nulls":6},"対",{"$nulls":14},"対"]
[null,"ＣＯＵＮＴＲＹ（ＴＥＡＭ）",{"$nulls":6},"ＣＨＡＮＧＥ　ＮＵＭＢＥＲ",{"$nulls":7},"ＣＯＵＮＴＲＹ（ＴＥＡＭ）",{"$nulls":6},"ＣＨＡＮＧＥ　ＮＵＭＢＥＲ"]
[null,"チーム名",{"$nulls":6},"交代順番",{"$nulls":7},"チーム名",{"$nulls":6},"交代順番"]
[]
[]
[{"$nulls":4},"FULL NAME 　氏名",{"$nulls":6},"PLAYER No.",{"$nulls":7},"FULL NAME 　氏名",{"$nulls":6},"PLAYER No."]
[{"$nulls":11},"背番号",{"$nulls":14},"背番号"]
[]
[null,"GOES IN",{"$nulls":14},"GOES IN"]
[null,"交代者",{"$nulls":14},"交代者"]
[]
[]
[null,"GOES OUT",{"$nulls":14},"GOES OUT"]
[null,"退場者",{"$nulls":14},"退場者"]
[]
[]
[null,"1st",null,"2nd",null,"HALF",null,null,"ＣＯＡＣＨ’Ｓ　ＳＩＧＮＡＴＵＲＥ",{"$nulls":7},"1st",null,"2nd",null,"HALF",null,null,"ＣＯＡＣＨ’Ｓ　ＳＩＧＮＡＴＵＲＥ"]
[null,"前半",null,"後半",{"$nulls":4},"監　督　署　名",{"$nulls":7},"前半",null,"後半",{"$nulls":4},"監　督　署　名"]
[]
[]
[null,"ＨＯＵＲ",null,"時　刻",{"$nulls":4},"ＤＡＴＥ",null,"月　日",{"$nulls":5},"ＨＯＵＲ",null,"時　刻",{"$nulls":4},"ＤＡＴＥ",null,"月　日"]
[]
[]
[null,"IWATE FOOTBALL ASSOCIATION U-18",{"$nulls":14},"IWATE FOOTBALL ASSOCIATION U-18"]
[]
[]
[{"$nulls":3},"ＣＨＡＮＧＥ　ＯＦ　ＰＬＡＹＥＲＳ",{"$nulls":14},"ＣＨＡＮＧＥ　ＯＦ　ＰＬＡＹＥＲＳ"]
[{"$nulls":3},"選手交代カード",{"$nulls":14},"選手交代カード"]
[]
[]
[{"$nulls":6},"ＶＳ",{"$nulls":14},"ＶＳ"]
[{"$nulls":6},"対",{"$nulls":14},"対"]
[null,"ＣＯＵＮＴＲＹ（ＴＥＡＭ）",{"$nulls":6},"ＣＨＡＮＧＥ　ＮＵＭＢＥＲ",{"$nulls":7},"ＣＯＵＮＴＲＹ（ＴＥＡＭ）",{"$nulls":6},"ＣＨＡＮＧＥ　ＮＵＭＢＥＲ"]
[null,"チーム名",{"$nulls":6},"交代順番",{"$nulls":7},"チーム名",{"$nulls":6},"交代順番"]
[]
[]
[{"$nulls":4},"FULL NAME 　氏名",{"$nulls":6},"PLAYER No.",{"$nulls":7},"FULL NAME 　氏名",{"$nulls":6},"PLAYER No."]
[{"$nulls":11},"背番号",{"$nulls":14},"背番号"]
[]
[null,"GOES IN",{"$nulls":14},"GOES IN"]
[null,"交代者",{"$nulls":14},"交代者"]
[]
[]
[null,"GOES OUT",{"$nulls":14},"GOES OUT"]
[null,"退場者",{"$nulls":14},"退場者"]
[]
[]
[null,"1st",null,"2nd",null,"HALF",null,null,"ＣＯＡＣＨ’Ｓ　ＳＩＧＮＡＴＵＲＥ",{"$nulls":7},"1st",null,"2nd",null,"HALF",null,null,"ＣＯＡＣＨ’Ｓ　ＳＩＧＮＡＴＵＲＥ"]
[null,"前半",null,"後半",{"$nulls":4},"監　督　署　名",{"$nulls":7},"前半",null,"後半",{"$nulls":4},"監　督　署　名"]
[]
[]
[null,"ＨＯＵＲ",null,"時　刻",{"$nulls":4},"ＤＡＴＥ",null,"月　日",{"$nulls":5},"ＨＯＵＲ",null,"時　刻",{"$nulls":4},"ＤＡＴＥ",null,"月　日"]
[]
[]
[null,"IWATE FOOTBALL ASSOCIATION U-18",{"$nulls":14},"IWATE FOOTBALL ASSOCIATION U-18"]

{"sheet":"公式記録用紙","index":9,"n_rows":77,"n_cols":69,"rows_kept":77,"merged":[[0,0,0,6],[1,0,1,14],[1,16,1,20],[1,21,1,25],[1,26,1,30],[2,0,2,14],[2,16,2,20],[2,21,2,25],[2,26,2,30],[4,0,4,3],[4,4,4,12],[4,13,4,18],[4,19,4,22],[4,23,4,25],[4,26,4,30],[5,0,5,3],[5,4,5,10],[5,11,5,12],[5,13,5,20],[5,21,5,22],[5,23,5,25],[5,26,5,27],[5,28,5,29],[5,32,5,35],[5,36,5,37],[6,0,6,3],[6,4,6,6],[6,7,6,8],[6,9,6,10],[6,11,6,12],[6,15,6,16],[6,17,6,18],[6,19,6,21],[6,22,6,24],[6,25,6,27],[6,28,6,30],[8,0,8,2],[8,3,8,8],[8,9,8,11],[8,12,8,17],[8,18,8,20],[8,21,8,26],[8,27,9,27],[8,28,9,29],[8,30,9,30],[9,0,9,2],[9,3,9,8],[9,9,9,11],[9,12,9,17],[9,18,9,20],[9,21,9,26],[11,0,11,2],[11,3,11,8],[11,9,15,10],[11,11,11,12],[11,13,11,17],[11,18,11,19],[11,20,15,21],[11,22,11,27],[11,28,11,30],[11,51,14,55],[12,1,13,7],[12,11,12,12],[12,13,12,17],[12,18,12,19],[12,23,13,29],[13,11,13,12],[13,13,13,17],[13,18,13,19],[14,2,14,3],[14,6,14,8],[14,11,14,12],[14,13,14,17],[14,18,14,19],[14,24,14,25],[14,28,14,30],[15,11,15,12],[15,13,15,17],[15,18,15,19],[17,0,18,0],[17,1,18,1],[17,2,18,5],[17,6,18,6],[17,7,18,7],[17,8,17,12],[17,13,17,14],[17,16,18,16],[17,17,18,17],[17,18,18,21],[17,22,18,22],[17,23,18,23],[17,24,17,28],[17,29,17,30],[18,51,18,52],[19,2,19,5],[19,18,19,21],[20,2,20,5],[20,18,20,21],[21,2,21,5],[21,18,21,21],[21,51,21,52],[22,2,22,5],[22,18,22,21],[23,2,23,5],[23,18,23,21],[23,51,23,52],[24,2,24,5],[24,18,24,21],[25,2,25,5],[25,18,25,21],[25,51,25,52],[26,2,26,5],[26,18,26,21],[27,2,27,5],[27,18,27,21],[27,51,27,52],[28,2,28,5],[28,18,28,21],[29,2,29,5],[29,18,29,21],[29,51,29,52],[30,2,30,5],[30,18,30,21],[31,2,31,5],[31,18,31,21],[31,51,31,52],[32,2,32,5],[32,18,32,21],[33,2,33,5],[33,18,33,21],[34,2,34,5],[34,18,34,21],[35,2,35,5],[35,18,35,21],[36,2,36,5],[36,18,36,21],[37,2,37,5],[37,18,37,21],[38,2,38,5],[38,18,38,21],[39,0,39,1],[39,2,39,5],[39,6,39,14],[39,16,39,17],[39,18,39,21],[39,22,39,30],[41,0,41,7],[41,9,42,9],[41,10,42,10],[41,11,42,11],[41,12,42,12],[41,13,42,13],[41,14,42,16],[41,17,42,17],[41,18,42,18],[41,19,42,19],[41,20,42,20],[41,21,42,21],[41,23,41,30],[42,2,42,4],[42,5,42,7],[42,25,42,27],[42,28,42,30],[43,2,43,4],[43,5,43,7],[43,14,43,16],[43,25,43,27],[43,28,43,30],[44,2,44,4],[44,5,44,7],[44,14,44,16],[44,25,44,27],[44,28,44,30],[45,2,45,4],[45,5,45,7],[45,14,45,16],[45,25,45,27],[45,28,45,30],[46,2,46,4],[46,5,46,7],[46,14,46,16],[46,25,46,27],[46,28,46,30],[47,2,47,4],[47,5,47,7],[47,14,47,16],[47,25,47,27],[47,28,47,30],[48,2,48,4],[48,5,48,7],[48,14,48,16],[48,25,48,27],[48,28,48,30],[49,2,49,4],[49,5,49,7],[49,14,49,16],[49,25,49,27],[49,28,49,30],[50,2,50,4],[50,5,50,7],[50,25,50,27],[50,28,50,30],[51,2,51,4],[51,5,51,7],[51,8,51,9],[51,10,52,21],[51,25,51,27],[51,28,51,30],[52,2,52,4],[52,5,52,7],[52,25,52,27],[52,28,52,30],[53,2,53,4],[53,5,53,7],[53,8,53,9],[53,10,54,21],[53,25,53,27],[53,28,53,30],[54,2,54,4],[54,5,54,7],[54,25,54,27],[54,28,54,30],[56,0,56,30],[57,0,57,30],[59,0,70,0],[59,1,60,1],[59,2,60,4],[59,5,60,5],[59,6,60,9],[59,10,60,10],[59,11,60,13],[59,14,59,30],[60,14,60,16],[60,17,60,30],[61,2,61,4],[61,6,61,9],[61,11,61,13],[62,2,62,4],[62,6,62,9],[62,11,62,13],[63,2,63,4],[63,6,63,9],[63,11,63,13],[64,2,64,4],[64,6,64,9],[64,11,64,13],[65,2,65,4],[65,6,65,9],[65,11,65,13],[66,2,66,4],[66,6,66,9],[66,11,66,13],[67,2,67,4],[67,6,67,9],[67,11,67,13],[68,2,68,4],[68,6,68,9],[68,11,68,13],[69,2,69,4],[69,6,69,9],[69,11,69,13],[70,2,70,4],[70,6,70,9],[70,11,70,13],[71,0,71,4],[71,5,71,6],[71,7,71,8],[71,9,71,10],[71,11,71,12],[71,13,71,14],[71,16,71,17],[71,18,71,19],[71,20,71,21],[71,22,71,23],[71,24,71,25],[71,26,71,27],[71,28,71,29],[72,0,72,1],[72,2,72,4],[73,0,73,1],[73,2,73,4],[74,0,74,30],[77,0,79,30]]}
["トップページへ戻る"]
["社団法人　岩手県サッカー協会2種委員会",{"$nulls":15},"マッチコミッショナー",{"$nulls":4},"主審",{"$nulls":4},"運営担当／会場長"]
["公　式　記　録"]
[]
["大　会　名:",{"$nulls":12},"ﾏｯﾁレベル(節／回戦)：",{"$nulls":9},"大会方式："]
["期日（年月日）:",{"$nulls":10},"競技場:",{"$nulls":9},"試合時間：",{"$nulls":4},"延長：",{"$nulls":3},"分"]
["キックオフ時刻:",{"$nulls":6},"天候：",{"$nulls":3},"気温：",null,null,"℃","風：",{"$nulls":3},"ピッチ表面：",{"$nulls":5},"ピッチ状態："]
[]
["〔マッチコミッショナー〕",{"$nulls":8},"〔主審〕",{"$nulls":8},"〔副審１〕",{"$nulls":8},"観衆",null,null,"人"]
["〔記録員〕",{"$nulls":8},"〔副審２〕",{"$nulls":8},"〔第４の審判〕"]
[]
["チーム名",null,null,"（ホーム）",{"$nulls":9},"前　　　半",{"$nulls":6},{"$f":"IF(S13=\"\",\"\",SUM(S12:S15))","v":""},null,"（ビジター）",{"$nulls":5},"チーム名",{"$nulls":22},"ポジションリスト"]
[{"$nulls":13},"後　　　半"]
[{"$nulls":13},"延長前半"]
[null,null,"kick off",{"$nulls":3},"kick of(延長)",{"$nulls":6},"延長後半",{"$nulls":10},"kick off",{"$nulls":3},"kick of(延長)"]
[{"$nulls":13},"Ｐ　　　Ｋ",{"$nulls":38},"GK","DF","MF","FW"]
[]
["位置","番号","選　手　名",{"$nulls":3},"学\n年","得\n点","シュート",{"$nulls":4},"交代",null,null,"位置","番号","選　手　名",{"$nulls":3},"学\n年","得\n点","シュート",{"$nulls":4},"交代"]
[{"$nulls":8},"合計","前半","後半","延前","延後","分","№",{"$nulls":9},"合計","前半","後半","延前","延後","分","№",{"$nulls":17},"大会名",null,null,"大会方式",null,"リーグ","トーナメント"]
[{"$nulls":48},"i.League U-18"]
[{"$nulls":48},"岩手県高等学校総合体育大会"]
[{"$nulls":48},"全国高等学校サッカー選手権岩手県大会",null,null,"CATEGORY",null,"i－1","i－2","i－3"]
[{"$nulls":48},"岩手県高等学校新人大会"]
[{"$nulls":48},"岩手県高等学校選抜交流大会",null,null,"ピッチ表面",null,"天然芝","人工芝","土"]
[]
[{"$nulls":51},"マッチレベル",null,"1節","2節","3節","4節","5節","6節","7節","8節","決勝","準決勝","準々決勝","1回戦","2回戦","3回戦","4回戦","5回戦"]
[]
[{"$nulls":51},"ピッチ状態",null,"良好","不良"]
[]
[{"$nulls":51},"天候",null,"晴","曇り","雨","雪"]
[]
[{"$nulls":51},"風",null,"無風","微風","弱風","強風"]
{"$rows_empty":7}
["監督:",{"$nulls":15},"監督:"]
[]
["警告／退場",{"$nulls":8},"延後","延前","後半","前半","計",{"$nulls":3},"計","前半","後半","延前","延後",null,"警告／退場"]
["分","№","氏名",null,null,"理由",{"$nulls":17},"分","№","氏名",null,null,"理由"]
[{"$nulls":14},"シュート"]
[{"$nulls":14},"GK"]
[{"$nulls":14},"CK"]
[{"$nulls":14},"直接ＦＫ"]
[{"$nulls":14},"間接ＦＫ"]
[{"$nulls":14},"（オフサイド）"]
[{"$nulls":14},"ＰＫ"]
[]
[{"$nulls":8},"（注1)",null,"オフサイド欄の数字は、間接フリーキック数のうち、オフサイドによるものを表す。"]
[]
[{"$nulls":8},"（注2)",null,"分欄の「＊」印はハーフタイムなどのインターバル中あるいはPK戦中を意味する。"]
[]
[]
["〔警告理由〕　C1：反スポーツ的行為、C2：ラフプレイ、C3：異議、C4：繰り返しの違反、C5：遅延行為、C6：距離不足、C7：無許可入、C8：無許可去"]
["〔退場理由〕　S1：著しく不正なプレイ、S2：乱暴な行為、S3：つば吐き、S4：得点機会阻止(手)、S5：得点機会阻止(他)、S6：侮辱、CS：警告2回"]
[]
["得\n\n点　\n\n経　\n\n過","分","得点チーム",null,null,"№","得点者",{"$nulls":3},"№","アシスト",null,null,"得　　点　　経　　過"]
[{"$nulls":14},"スコア",null,null,"～：ﾄﾞﾘﾌﾞﾙ､→：グラウンドパス､↑：浮き球､×：混戦､H：ﾍﾃﾞｨﾝｸﾞ､S：ｼｭｰﾄ"]
[{"$nulls":15},"－"]
[{"$nulls":15},"－"]
[{"$nulls":15},"－"]
[{"$nulls":15},"－"]
[{"$nulls":15},"－"]
[{"$nulls":15},"－"]
[{"$nulls":15},"－"]
[{"$nulls":15},"－"]
[{"$nulls":15},"－"]
[{"$nulls":15},"－"]
["ＰＫ戦の経過",{"$nulls":4},"1st",null,"2nd",null,"3rd",null,"4th",null,"5th",null,null,"6th",null,"7th",null,"8th",null,"9th",null,"10th",null,"11th",null,"12th"]
["先攻"]
["後攻"]
["左の欄：選手の背番号、右の欄：成否（　○：成功、SY：ゴールキーパーによる阻止、W：枠外、P：ポスト、C：クロスバー）"]
[]
["【　備　考　】"]

{"sheet":"審判報告書（表）","index":10,"n_rows":44,"n_cols":26,"rows_kept":44,"merged":[[0,0,0,6],[1,0,1,27],[3,0,3,2],[3,3,3,27],[4,0,4,2],[4,3,4,8],[4,11,4,12],[4,13,4,18],[4,32,4,35],[4,36,4,37],[5,0,5,2],[5,4,5,13],[5,18,5,27],[6,0,6,2],[6,3,6,4],[6,6,6,7],[6,9,6,11],[6,12,6,14],[6,16,6,18],[6,19,6,21],[6,23,6,24],[6,25,6,27],[7,0,7,2],[7,3,7,5],[7,7,7,8],[7,10,7,11],[7,13,7,14],[7,16,7,17],[7,19,7,22],[8,0,8,2],[8,3,8,27],[9,0,9,2],[9,3,9,8],[9,9,9,10],[9,11,9,13],[9,14,9,16],[9,17,9,22],[9,23,9,24],[9,25,9,27],[10,0,10,2],[10,3,10,8],[10,9,10,10],[10,11,10,13],[10,14,10,16],[10,17,10,22],[10,23,10,24],[10,25,10,27],[13,0,13,27],[14,0,14,27],[16,0,16,2],[17,0,17,2],[17,3,17,5],[17,6,17,7],[17,8,17,11],[17,12,17,13],[17,14,17,27],[18,1,18,2],[18,3,18,5],[18,6,18,7],[18,8,18,11],[18,15,18,27],[19,1,19,2],[19,3,19,5],[19,6,19,7],[19,8,19,11],[19,15,19,27],[20,1,20,2],[20,3,20,5],[20,6,20,7],[20,8,20,11],[20,15,20,27],[21,1,21,2],[21,3,21,5],[21,6,21,7],[21,8,21,11],[21,15,21,27],[22,1,22,2],[22,3,22,5],[22,6,22,7],[22,8,22,11],[22,15,22,27],[23,1,23,2],[23,3,23,5],[23,6,23,7],[23,8,23,11],[23,15,23,27],[24,1,24,2],[24,3,24,5],[24,6,24,7],[24,8,24,11],[24,15,24,27],[25,1,25,2],[25,3,25,5],[25,6,25,7],[25,8,25,11],[25,15,25,27],[27,0,27,2],[27,5,27,27],[28,0,28,2],[28,3,28,5],[28,6,28,7],[28,8,28,11],[28,12,28,13],[28,14,28,27],[29,1,29,2],[29,3,29,5],[29,6,29,7],[29,8,29,11],[29,12,29,27],[30,1,30,2],[30,3,30,5],[30,6,30,7],[30,8,30,11],[30,12,30,27],[31,1,31,2],[31,3,31,5],[31,6,31,7],[31,8,31,11],[31,12,31,27],[34,0,34,27],[35,0,35,27],[36,0,36,27],[39,2,39,4],[39,6,39,7],[39,9,39,10],[40,13,40,15],[40,16,40,27],[41,16,41,27],[42,13,42,15],[42,16,42,27]]}
["トップページへ戻る"]
["審　判　報　告　書"]
[]
["大会名"]
["試合時間",{"$nulls":8},"分",null,"延長戦",{"$nulls":7},"分"]
["試合",null,null,"Ａ",{"$nulls":11},"対",null,"Ｂ"]
["結果",{"$nulls":4},"：",{"$nulls":3},"（　：　）",null,null,"（　：　）",null,null,"延","（　：　）",null,null,"（　：　）",{"$nulls":3},"ＰＫ",null,"（　：　）"]
["日時",{"$nulls":5},"年",null,null,"月",null,null,"日",null,null,"時",null,null,"分","キックオフ"]
["場所"]
["主審",{"$nulls":8},"所属",{"$nulls":4},"副 審 １",{"$nulls":8},"所属"]
["第4の審判",{"$nulls":8},"所属",{"$nulls":4},"副 審 ２",{"$nulls":8},"所属"]
[]
["競技場、用具の状態"]
[]
[]
[]
["警　　告"]
["時　間",null,null,"チーム",null,null,"番号",null,"氏名",{"$nulls":3},"理由",null,"{(　)内に反ラ異繰遅距入去を記入し、具体的事由を記入する}"]
[1,{"$nulls":11},"（",null,"）"]
[2,{"$nulls":11},"（",null,"）"]
[3,{"$nulls":11},"（",null,"）"]
[4,{"$nulls":11},"（",null,"）"]
[5,{"$nulls":11},"（",null,"）"]
[6,{"$nulls":11},"（",null,"）"]
[7,{"$nulls":11},"（",null,"）"]
[8,{"$nulls":11},"（",null,"）"]
[]
["退　　場",{"$nulls":4},"（詳細は重要事項報告書に記入して提出する。但し警告2についてはこの報告書のみでよい。)"]
["時　間",null,null,"チーム",null,null,"番号",null,"氏名",{"$nulls":3},"理由",null,"{　不正、乱暴、つば、阻止（手）、阻止（他）、暴言、警告2　}"]
[1]
[2]
[3]
[]
["その他の報告事項"]
[]
[]
[]
[]
["以上の通り報告いたします。"]
[{"$nulls":5},"年",null,null,"月",null,null,"日"]
[{"$nulls":13},"主審住所"]
[]
[{"$nulls":13},"署名"]
["社団法人 岩手県サッカー協会長　殿"]

{"sheet":"審判報告書（重要報告）","index":11,"n_rows":41,"n_cols":21,"rows_kept":41,"merged":[[0,1,0,7],[1,1,1,28],[3,1,3,3],[3,4,3,28],[4,1,4,3],[4,4,4,9],[4,12,4,13],[4,14,4,19],[4,33,4,36],[4,37,4,38],[5,1,5,3],[5,5,5,14],[5,19,5,28],[6,1,6,3],[6,4,6,6],[6,8,6,9],[6,11,6,12],[9,1,9,28],[10,1,10,28],[11,1,11,28],[12,1,12,28],[13,1,13,28],[14,1,14,28],[15,1,15,28],[16,1,16,28],[17,1,17,28],[18,1,18,28],[19,1,19,28],[20,1,20,28],[21,1,21,28],[22,1,22,28],[23,1,23,28],[24,1,24,28],[25,1,25,28],[26,1,26,28],[27,1,27,28],[28,1,28,28],[29,1,29,28],[30,1,30,28],[31,1,31,28],[32,1,32,28],[33,1,33,28],[34,1,34,28],[35,1,35,28],[38,3,38,5],[38,7,38,8],[38,10,38,11],[39,14,39,16],[39,17,39,28]]}
[null,"トップページへ戻る"]
[null,"審　判　報　告　書（重要事項）"]
[]
[null,"大会名"]
[null,"試合時間",{"$nulls":8},"分",null,"延長戦",{"$nulls":7},"分"]
[null,"試合",null,null,"Ａ",{"$nulls":11},"対",null,"Ｂ"]
[null,"日時",{"$nulls":5},"年",null,null,"月",null,null,"日"]
[]
[null,"退場、その他の重要事項についての詳細"]
{"$rows_empty":28}
[null,"以上の通り報告いたします。"]
[{"$nulls":6},"年",null,null,"月",null,null,"日"]
[{"$nulls":14},"署名"]
[null,"社団法人 岩手県サッカー協会長　殿"]

{"sheet":"選手データ","index":12,"n_rows":103,"n_cols":36,"rows_kept":103,"merged":[[0,0,2,0],[3,0,17,0],[18,0,32,0],[33,0,47,0],[48,0,62,0],[63,0,77,0],[78,0,92,0],[93,0,102,0]]}
["トップページへ戻る",null,"選手－DATA（各様式に反映します）",{"$nulls":3},"協会登録名称：",{"$f":"IF(トップページ!$S$9<>0,トップページ!$S$9,\"\")","v":""}]
[null,"NO","部員NO　　　　　　　（年・組・番号）","*協会登録番号","学年","*氏　　名","ふりがな","出身中","チーム歴　U-15","チーム歴　U-12","生年月日","*身長","*体重","本籍",{"$nulls":15},"today関数","年度","高総体","選抜交流","iリーグ","シーズン","高校選手権"]
[null,0,1,2,3,4,5,6,7,8,9,10,11,12]
["ページトップへ",1,{"$nulls":27},{"$f":"TODAY()","v":"2009-04-05"},{"$f":"IF($AD$16<=3,$AD$6-1989,$AD$6-1988)","v":21},{"$f":"IF($AD$16<=3,$AD$6-1949,$AD$6-1948)","v":61},{"$f":"IF($AD$16<=3,$AD$6-1978,$AD$6-1977)","v":32},{"$f":"IF($AD$16>=4,$AD$6-2002,$AD$6-2003)","v":7},{"$f":"$AD$6","v":2009},{"$f":"IF($AD$16<=3,$AD$6-1922,$AD$6-1921)","v":88}]
[null,2,{"$nulls":27},"year関数",{"$nulls":3},{"$f":"$AH$4+2","v":9}]
[null,3,{"$nulls":27},{"$f":"YEAR($AD$4)","v":2009},{"$nulls":3},{"$f":"RIGHT($AD$6,2)","v":"09"}]
[null,4,{"$nulls":27},"year関数-1",{"$nulls":3},{"$f":"$AH$4+3","v":10}]
[null,5,{"$nulls":27},{"$f":"$AD$6-1","v":2008},{"$nulls":3},{"$f":"RIGHT($AD8,2)","v":"08"}]
[null,6,{"$nulls":27},"year関数+1"]
[null,7,{"$nulls":27},{"$f":"$AD$6+1","v":2010},{"$nulls":3},{"$f":"RIGHT($AD10,2)","v":"10"}]
[null,8]
[null,9]
[null,10]
[null,11]
[null,12,{"$nulls":27},"Month関数"]
[null,13,{"$nulls":27},{"$f":"MONTH($AD$4)","v":4}]
[null,14,{"$nulls":27},"day関数"]
[null,15,{"$nulls":27},{"$f":"DAY($AD$4)","v":5}]
["ページトップへ",16]
[null,17]
[null,18]
[null,19]
[null,20]
[null,21]
[null,22]
[null,23]
[null,24]
[null,25]
[null,26]
[null,27]
[null,28]
[null,29]
[null,30]
["ページトップへ",31]
[null,32]
[null,33]
[null,34]
[null,35]
[null,36]
[null,37]
[null,38]
[null,39]
[null,40]
[null,41]
[null,42]
[null,43]
[null,44]
[null,45]
["ページトップへ",46]
[null,47]
[null,48]
[null,49]
[null,50]
[null,51]
[null,52]
[null,53]
[null,54]
[null,55]
[null,56]
[null,57]
[null,58]
[null,59]
[null,60]
["ページトップへ",61]
[null,62]
[null,63]
[null,64]
[null,65]
[null,66]
[null,67]
[null,68]
[null,69]
[null,70]
[null,71]
[null,72]
[null,73]
[null,74]
[null,75]
["ページトップへ",76]
[null,77]
[null,78]
[null,79]
[null,80]
[null,81]
[null,82]
[null,83]
[null,84]
[null,85]
[null,86]
[null,87]
[null,88]
[null,89]
[null,90]
["ページトップへ",91]
[null,92]
[null,93]
[null,94]
[null,95]
[null,96]
[null,97]
[null,98]
[null,99]
[null,100]

{"sheet":"ﾁｰﾑﾃﾞｰﾀ","index":13,"n_rows":64,"n_cols":12,"rows_kept":64,"merged":[[0,0,9,0]]}
["トップページへ戻る","ﾁｰﾑ登録番号","ﾁｰﾑ名","略称","ﾁｰﾑ登録番号","種別","区分","ＴＥＬ","ＦＡＸ","フリガナ","郵便番号","住所"]
[null,"0028796","県立久慈高等学校","久慈","0028796","2種","高体連","0194-55-2211","0194-55-2861","ｸｼﾞｺｳﾄｳｶﾞｯｺｳ","028-0033","久慈市畑田26－96"]
[null,"0028820","県立大野高等学校","大野","0028820","2種","高体連","0194-77-2125.2638","0194-77-2125","ｵｵﾉｺｳﾄｳｶﾞｯｺｳ","028-8802","九戸郡洋野町大野５８ー１２－５５"]
[null,"0029001","県立久慈工業高等学校","久慈工","0029001","2種","高体連","0194-78-2123","0194-78-4190","ｸｼﾞｺｳｷﾞｮｳｺｳﾄｳｶﾞｯｺｳ","028-8201","九戸郡野田村大字野田26－62－17"]
[null,"0399180","県立久慈東高等学校","久慈東","0399180","2種","高体連","0194-53-4489","0194-61-3089",null,"028-0021","久慈市門前36-10"]
[null,"0062299","県立軽米高等学校","軽米","0062299","2種","高体連","0195-46-2751.2320","0195-46-3928","ｶﾙﾏｲｺｳﾄｳｶﾞｯｺｳ","028-6302","九戸郡軽米町軽米9－34－1"]
[null,"0062198","県立福岡高等学校","福岡","0062198","2種","高体連","0195-23-3385.3386","0195-23-5605","ﾌｸｵｶｺｳﾄｳｶﾞｯｺｳ","028-6101","二戸市福岡字上平10"]
[null,"0029056","県立福岡工業高等学校","福岡工","0029056","2種","高体連","0195-23-3315","0195-23-3316","ﾌｸｵｶｺｳｷﾞｮｳｺｳﾄｳｶﾞｯｺｳ","028-6103","二戸市石切所字火行塚2－1"]
[null,"0062367","県立沼宮内高等学校","沼宮内","0062367","2種","高体連","0195-62-2388.2334","0195-62-3203","ﾇﾏｸﾅｲｺｳﾄｳｶﾞｯｺｳ","028-4307","岩手郡岩手町大字五日市10－4"]
[null,"0062334","県立葛巻高等学校","葛巻","0062334","2種","高体連","0195-66-2624.2253","0195-66-2624","ｸｽﾞﾏｷｺｳﾄｳｶﾞｯｺｳ","028-5402","岩手郡葛巻町葛巻5－178－1"]
[null,"0062323","県立平舘高等学校","平舘","0062323","2種","高体連","0195-74-2609","0195-74-3740","ﾀｲﾗﾀﾞﾃｺｳﾄｳｶﾞｯｺｳ","028-7405","八幡平市平舘２５－６"]
[null,"0028932","県立雫石高等学校","雫石","0028932","2種","高体連","019-692-3254","019-692-1824","ｼｽﾞｸｲｼｺｳﾄｳｶﾞｯｺｳ","020-0544","岩手郡雫石町36字柿木36－1"]
[null,"0028909","県立盛岡第一高等学校","盛岡一","0028909","2種","高体連","019-623-4491","019-654-4227","ﾓﾘｵｶﾀﾞｲｲﾁｺｳﾄｳｶﾞｯｺｳ","020-8515","盛岡市上田3－2－1"]
[null,"0162155","県立盛岡第三高等学校","盛岡三","0162155","2種","高体連","019-661-1735.1736","019-661-5409","ﾓﾘｵｶﾀﾞｲｻﾝｺｳﾄｳｶﾞｯｺｳ","020-0114","盛岡市高松4－17－16"]
[null,"0062244","県立盛岡第四高等学校","盛岡四","0062244","2種","高体連","019-636-0742","019-636-4421","ﾓﾘｵｶﾀﾞｲｼｺｳﾄｳｶﾞｯｺｳ","020-0835","盛岡市津志田26－17－1"]
[null,"0028875","県立盛岡北高等学校","盛岡北","0028875","2種","高体連","019-687-2311","019-687-2331","ﾓﾘｵｶｷﾀｺｳﾄｳｶﾞｯｺｳ","020-0173","岩手郡滝沢村滝沢字牧野林298－1"]
[null,"0062109","県立盛岡南高等学校","盛岡南","0062109","2種","高体連","019-638-9373","019-638-8584","ﾓﾘｵｶﾐﾅﾐｺｳﾄｳｶﾞｯｺｳ","020-0833","盛岡市西見前20－113－1"]
[null,"0062211","県立不来方高等学校","不来方","0062211","2種","高体連","019-697-8271","019-697-8693","ｺｽﾞｶﾀｺｳﾄｳｶﾞｯｺｳ","028-3615","紫波郡矢巾町大字南矢幅9－1－1"]
[null,"0162133","県立盛岡農業高等学校","盛岡農","0162133","2種","高体連","019-688-4211","019-688-4215","ﾓﾘｵｶﾉｳｷﾞｮｳｺｳﾄｳｶﾞｯｺｳ","020-0173","岩手郡滝沢村滝沢字砂込1463"]
[null,"0062378","県立盛岡商業高等学校","盛岡商","0062378","2種","高体連","019-636-1026.1027","019-636-0351","ﾓﾘｵｶｼｮｳｷﾞｮｳｺｳﾄｳｶﾞｯｺｳ","020-0866","盛岡市本宮2-35-1"]
[null,"0029348","盛岡市立高等学校","盛岡市立","0029348","2種","高体連","019-658-0491","019-658-0883","ﾓﾘｵｶｼﾘﾂｺｳﾄｳｶﾞｯｺｳ","020-0053","盛岡市上太田上川原96"]
[null,"0028819","岩手高等学校","岩手","0028819","2種","高体連","019-624-4445","019-651-3454","ｲﾜﾃｺｳﾄｳｶﾞｯｺｳ","020-0062","盛岡市長田町7－60"]
[null,"0231646","江南義塾盛岡高等学校","江南義塾","0231646","2種","高体連","019-646-1866","019-646-1867","ｺｳﾅﾝｷﾞｼﾞｭｸﾓﾘｵｶｺｳﾄｳｶﾞｯｺｳ","020-0127","盛岡市前九年3－8－20"]
[null,"0062187","盛岡大学附属高等学校","盛大附","0062187","2種","高体連","019-641-1121","019-643-5719","ﾓﾘｵｶﾀﾞｲｶﾞｸﾌｿﾞｸｺｳﾄｳｶﾞｯｺｳ","020-0124","盛岡市厨川5－4－1"]
[null,"0162100","盛岡中央高等学校","盛岡中央","0162100","2種","高体連","019-641-5682.0458","019-641-5533","ﾓﾘｵｶﾁｭｳｵｳｺｳﾄｳｶﾞｯｺｳ","020-0122","盛岡市みたけ4－26－1"]
[null,"0363507","県立杜陵高等学校（定時制）","杜陵（定）","0363507","2種","その他","019-652-1813","019-624-3418","ﾄﾘｮｳｺｳﾄｳｶﾞｯｺｳ","020-8543","（盛岡市上田2－3－1）"]
[null,"0062288","県立紫波総合高等学校","紫波総合","0062288","2種","高体連","019-672-3690","019-672-2647","ｼﾜｺｳﾄｳｶﾞｯｺｳ","028-3305","紫波郡紫波町日詰字朝日田1"]
[null,"0062200","県立花巻北高等学校","花巻北","0062200","2種","高体連","0198-23-4134.4135","0198-24-4128","ﾊﾅﾏｷｷﾀｺｳﾄｳｶﾞｯｺｳ","025-0061","花巻市本館54"]
[null,"0062132","県立花巻南高等学校","花巻南","0062132","2種","高体連","0198-23-4236","0198-22-6992","ﾊﾅﾏｷﾐﾅﾐｺｳﾄｳｶﾞｯｺｳ","025-0053","花巻市中北万丁目288－1"]
[null,"0028785","県立花北青雲高等学校","花北青雲","0028785","2種","高体連","0198-45-3731.3732","0198-45-6833","ﾊﾅｷｾｲｳﾝｺｳﾄｳｶﾞｯｺｳ","028-3172","花巻市石鳥谷町北寺林１１－１８２５－１"]
[null,"0028831","花巻東高等学校","花巻東","0028831","2種","高体連","0198-41-1135.24-2825","0198-41-1136","ﾊﾅﾏｷﾋｶﾞｼｺｳﾄｳｶﾞｯｺｳ","025-0066","花巻市松園町55－1"]
[null,"0029304","県立遠野高等学校","遠野","0029304","2種","高体連","0198-62-2823.2824","0198-62-2805","ﾄｵﾉｺｳﾄｳｶﾞｯｺｳ","028-0525","遠野市六日町3－17"]
[null,"0029067","県立遠野緑峰高等学校","遠野緑峰","0029067","2種","高体連","0198-62-2827.2828","0198-62-2828","ﾄｵﾉﾘｮｸﾎｳｺｳﾄｳｶﾞｯｺｳ","028-0541","遠野市松崎町白岩21－14－1"]
[null,"0062143","県立黒沢尻北高等学校","黒北","0062143","2種","高体連","0197-63-2181","0197-63-2196","ｸﾛｻﾜｼﾞﾘｷﾀｺｳﾄｳｶﾞｯｺｳ","024-0012","北上市常盤台1－1－69"]
[null,"0028987","専修大学北上高等学校","専大北上","0028987","2種","高体連","0197-63-2341","0197-63-7458","ｾﾝｼｭｳﾀﾞｲｶﾞｸｷﾀｶﾐｺｳﾄｳｶﾞｯｺｳ","024-8508","北上市新穀町2－4－64"]
[null,"0397054","県立北上翔南高等学校","北上翔南","0397054","2種","高体連","0197-71-2122","0197-71-2160",null,"024-0051","北上市相去町高前檀13"]
[null,"0028954","県立金ヶ崎高等学校","金ヶ崎","0028954","2種","高体連","0197-44-3141","0197-44-3142","ｶﾈｶﾞｻｷｺｳﾄｳｶﾞｯｺｳ","029-4503","胆沢郡金ケ崎町西根荒巻43－1"]
[null,"0062277","県立水沢高等学校","水沢","0062277","2種","高体連","0197-24-3151","0197-22-3037","ﾐｽﾞｻﾜｺｳﾄｳｶﾞｯｺｳ","023-0864","奥州市水沢区竜ヶ馬場５－１"]
[null,"0162111","県立水沢農業高等学校","水農","0162111","2種","高体連","0197-47-0311","0197-47-2233","ﾐｽﾞｻﾜﾉｳｷﾞｮｳｺｳﾄｳｶﾞｯｺｳ","023-0402","奥州市胆沢区小山字笹森１"]
[null,"0062266","県立水沢工業高等学校","水工","0062266","2種","高体連","0197-24-5155","0197-22-3822","ﾐｽﾞｻﾜｺｳｷﾞｮｳｺｳﾄｳｶﾞｯｺｳ","023-0003","奥州市水沢区佐倉河字道下１００－１"]
[null,"0162122","県立水沢商業高等学校","水商","0162122","2種","高体連","0197-24-2101.2102","0197-22-6764","ﾐｽﾞｻﾜｼｮｳｷﾞｮｳｺｳﾄｳｶﾞｯｺｳ","023-0064","奥州市水沢区字土器田１"]
[null,"0029078","水沢第一高等学校","水沢一","0029078","2種","高体連","0197-24-6171","0197-25-4050","ﾐｽﾞｻﾜﾀﾞｲｲﾁｺｳﾄｳｶﾞｯｺｳ","023-0875","奥州市水沢区字森下２０－１"]
[null,"0062110","県立前沢高等学校","前沢","0062110","2種","高体連","0197-56-2241","0197-56-7187","ﾏｴｻﾜｺｳﾄｳｶﾞｯｺｳ","029-4206","奥州市前沢区字狐石３６－１"]
[null,"0029023","県立岩谷堂高等学校","岩谷堂","0029023","2種","高体連","0197-35-1911.1912","0197-35-4677","ｲﾜﾔﾄﾞｳｺｳﾄｳｶﾞｯｺｳ","023-1122","奥州市江刺区館山４－４７"]
[null,"0180997","県立岩谷堂農林高等学校","岩谷堂農","0180997","2種","高体連","0197-35-2018","0197-35-7873","ｲﾜﾔﾄﾞｳﾉｳﾘﾝｺｳﾄｳｶﾞｯｺｳ","023-1101","奥州市江刺区岩谷堂字根岸１１６"]
[null,"0029045","県立一関第一高等学校","一関一","0029045","2種","高体連","0191-23-4311.4312","0191-23-4661","ｲﾁﾉｾｷﾀﾞｲｲﾁｺｳﾄｳｶﾞｯｺｳ","021-0894","一関市磐井町9－1"]
[null,"0029089","県立一関第二高等学校","一関二","0029089","2種","高体連","0191-25-2241.2242","0191-25-5432","ｲﾁﾉｾｷﾀﾞｲﾆｺｳﾄｳｶﾞｯｺｳ","021-0041","一関市赤荻字野中23－1"]
[null,"0028910","一関学院高等学校","一関学院","0028910","2種","高体連","0191-23-4240.3906","0191-23-4245","ｲﾁﾉｾｷｼｮｳｺｳｺｳﾄｳｶﾞｯｺｳ","021-0871","一関市八幡町5－24"]
[null,"0062176","県立花泉高等学校","花泉","0062176","2種","高体連","0191-82-3363.3364","0191-82-5448","ﾊﾅｲｽﾞﾐｺｳﾄｳｶﾞｯｺｳ","029-3101","一関市花泉町花泉字林の沢１７－９"]
[null,"0028976","県立千厩高等学校","千厩","0028976","2種","高体連","0191-53-2149.2148","0191-52-5889","ｾﾝﾏﾔｺｳﾄｳｶﾞｯｺｳ","029-0803","一関市千厩町千厩字上駒場１０－１"]
[null,"0434034","県立大東高等学校","大東","0434034","2種","高体連","0191-75-3116","0191-75-3117"]
[null,"0061748","一関工業高等専門学校","一関高専","0061748","1種","高専連盟","0191－24－4700","0191－24－2146"]
[null,"0028943","県立高田高等学校","高田","0028943","2種","高体連","0192-55-3153.3154","0192-54-3864","ﾀｶﾀﾞｺｳﾄｳｶﾞｯｺｳ","029-2205","陸前高田市高田町字長砂6－4"]
[null,"0062255","県立大船渡高等学校","大船渡","0062255","2種","高体連","0192-26-4441.4306","0192-27-0792","ｵｵﾌﾅﾄｺｳﾄｳｶﾞｯｺｳ","022-0004","大船渡市猪川町字長洞7－1"]
[null,"0062121","県立大船渡東高等学校","大船渡東","0062121","2種","高体連","0192-26-2380","0192-27-7789","ｵｵﾌﾅﾄﾋｶﾞｼｺｳﾄｳｶﾞｯｺｳ","022-0006","大船渡市立根町字冷清水1－1"]
[null,"0062154","県立釜石高等学校","釜石","0062154","2種","高体連","0193-23-5317","0193-23-8611","ｶﾏｲｼﾐﾅﾐｺｳﾄｳｶﾞｯｺｳ","026-0055","釜石市甲子町10－614－1"]
[null,"0028998","県立大槌高等学校","大槌","0028998","2種","高体連","0193-42-3025","0193-42-4966","ｵｵﾂﾁｺｳﾄｳｶﾞｯｺｳ","028-1131","上閉伊郡大槌町大槌15－71－1"]
[null,"0062312","県立釜石工業高等学校","釜石工","0062312","2種","高体連","0193-22-3029","0193-22-6133","ｶﾏｲｼｺｳｷﾞｮｳｺｳﾄｳｶﾞｯｺｳ","026-0002","釜石市大平町3－2－1"]
[null,"0062233","県立山田高等学校","山田","0062233","2種","高体連","0193-82-2637.2164","0193-82-2637","ﾔﾏﾀﾞｺｳﾄｳｶﾞｯｺｳ","028-1361","下閉伊郡山田町織笠8－6－2"]
[null,"0062345","県立岩泉高等学校","岩泉","0062345","2種","高体連","0194-22-2721","0194-22-4437","ｲﾜｲｽﾞﾐｺｳﾄｳｶﾞｯｺｳ","027-0501","下閉伊郡岩泉町岩泉字松橋4"]
[null,"0028864","県立宮古高等学校","宮古","0028864","2種","高体連","0193-62-1812.63-6426","0193-62-2544","ﾐﾔｺｺｳﾄｳｶﾞｯｺｳ","027-0052","宮古市宮町2－1－1"]
[null,"0028897","県立宮古北高等学校","宮古北","0028897","2種","高体連","0193-87-3513.2021","0193-87-2021","ﾐﾔｺｷﾀｺｳﾄｳｶﾞｯｺｳ","027-0352","宮古市田老八幡水神４３－２"]
[null,"0062356","県立宮古工業高等学校","宮古工","0062356","2種","高体連","0193-67-2201","0193-67-2215","ﾐﾔｺｺｳｷﾞｮｳｺｳﾄｳｶﾞｯｺｳ","027-0202","宮古市赤前1字横枕81"]
[null,"0028763","水沢FCﾕﾅｲﾃｯﾄﾞ・ﾕｰｽ","水沢FC","0028763","2種","クラブユース連盟",null,null,"ﾐｽﾞｻﾜﾌｯﾄﾎﾞｰﾙｸﾗﾌﾞﾕｰｽ","023-0822","奥州市水沢区東中通り1丁目1番地13号　水沢FCクラブハウス内"]